BEGIN:VCALENDAR
VERSION:2.0
PRODID:-//ChamberMaster//Event Calendar 2.0//EN
METHOD:PUBLISH
X-PUBLISHED-TTL:P3D
REFRESH-INTERVAL:P3D
CALSCALE:GREGORIAN
BEGIN:VEVENT
DTSTART:20181003T130000Z
DTEND:20181003T140000Z
X-MICROSOFT-CDO-ALLDAYEVENT:FALSE
SUMMARY:Small Business Series: Streamline Your Business to Increase Profits
DESCRIPTION:Streamline Your Business to Increase Profits\n\nFeaturing Aaron Tennant\, founder and CEO\, Total Solutions\n\n\n\nCan outsourcing operations be a part of your business growth strategy? Aaron Tennant\, founder and CEO of Total Solutions\, has owned and operated many businesses\, including Simplex Leasing and Tennant Truck Lines. During his time as the owner of Tennant Truck Lines\, he expanded the operations and services offerings of the company resulting in year after year double digit growth. Aaron will talk about how developing an outsourcing strategy can allow you to focus on your core business activities\, resulting in greater revenue.
X-ALT-DESC;FMTTYPE=text/html:<p style="margin:0in\;margin-bottom:.0001pt\;background:white"><strong><span style="color:#002060\;"><span style="font-family:arial\,sans-serif\;"><span style="font-size:12.0pt\;">Streamline Your Business to Increase Profits</span></span></span></strong><br />\n<strong><span style="font-family:arial\,sans-serif\;">Featuring Aaron Tennant\, founder and CEO\, Total Solutions</span></strong><br />\n<br />\n<span style="font-size:11.0pt\;font-family:&quot\;Arial&quot\;\,&quot\;sans-serif&quot\;">Can outsourcing operations be a part of your business growth strategy? Aaron Tennant\, founder and CEO of Total Solutions\, has owned and operated many businesses\, including Simplex Leasing and Tennant Truck Lines. During his time as the owner of Tennant Truck Lines\, he expanded the operations and services offerings of the company resulting in year after year double digit growth. Aaron will talk about how developing an outsourcing strategy can allow you to focus on your core business activities\, resulting in greater revenue. <o:p></o:p></span></p>\n
LOCATION:EICC Urban Campus 101 W. 3rd St. Room 117W and 116W Davenport\, IA 52801
UID:e.2843.13487
SEQUENCE:3
DTSTAMP:20260423T044158Z
URL:https://member.quadcitieschamber.com/events/details/small-business-series-streamline-your-business-to-increase-profits-13487
END:VEVENT

END:VCALENDAR
