BEGIN:VCALENDAR
VERSION:2.0
PRODID:-//ChamberMaster//Event Calendar 2.0//EN
METHOD:PUBLISH
X-PUBLISHED-TTL:P3D
REFRESH-INTERVAL:P3D
CALSCALE:GREGORIAN
BEGIN:VEVENT
DTSTART:20131204T190000Z
DTEND:20131204T193000Z
X-MICROSOFT-CDO-ALLDAYEVENT:FALSE
SUMMARY:Small Wonders Photography 10 Year Anniversary Ribbon Cutting
DESCRIPTION:Please join Small Wonders Photography\, located at 225 East 2nd St. Suite 205 Davenport\, IA 52801\, as they host their 10 year anniversary with a ribbon cutting on Wednesday\, December 4th at 11:30am.  http://www.smallwondphoto.com/our-studio/.  Small Wonders Photography is a full service photography studio that specializes in photography for children\, families\, commercial and weddings.  Quinn Kirkpatrick\, owner/photographer of Small Wonders Photography\, has always had a love for photography dating back to his college days where he graduated from Southern Illinois University in Carbondale.  For years\, (before the digital revolution) Quinn was a lab manager and spent many hours in the dark room\, producing high-end prints for other artists.  As fate would have it\, the door of his lab career shut\, and in 2003\, Small Wonders Photography was created.  The hours of operation are Tuesday through Saturday\, from 9:00am-5:30pm.  The business is closed on Monday and Sunday. For more information visit www.smallwondphoto.com. Ryan Jantzi\, Manager of Operations for the Downtown Davenport Partnership\, will be speaking on behalf of the Quad Cities Chamber of Commerce.
X-ALT-DESC;FMTTYPE=text/html:<P style="MARGIN: 0in 0in 0pt" class=MsoNormal><P style="MARGIN: 0in 0in 0pt" class=MsoNormal><FONT face=Calibri>Please join Small Wonders Photography\, <B style="mso-bidi-font-weight: normal">located at 225 East 2<SUP>nd</SUP> St. Suite 205 Davenport\, IA 52801</B>\, as they host their 10 year anniversary with a ribbon cutting on Wednesday\, December 4<SUP>th</SUP> at 11:30am.<SPAN style="mso-spacerun: yes">&nbsp\; </SPAN></FONT><A href="http://www.smallwondphoto.com/our-studio/">http://www.smallwondphoto.com/our-studio/</A><FONT face=Calibri>. <?xml:namespace prefix = o ns = "urn:schemas-microsoft-com:office:office" /><o:p></o:p></FONT></P><P style="MARGIN: 0in 0in 0pt" class=MsoNormal><o:p><FONT face=Calibri>&nbsp\;</FONT></o:p></P><P style="MARGIN: 0in 0in 0pt" class=MsoNormal><FONT face=Calibri>Small Wonders Photography is a full service photography studio that specializes in photography for children\, families\, commercial and weddings.<SPAN style="mso-spacerun: yes">&nbsp\; </SPAN>Quinn Kirkpatrick\, owner/photographer of Small Wonders Photography\, has always had a love for photography dating back to his college days where he graduated from Southern Illinois University in Carbondale.<SPAN style="mso-spacerun: yes">&nbsp\; </SPAN>For years\, (before the digital revolution) Quinn was a lab manager and spent many hours in the dark room\, producing high-end prints for other artists.<SPAN style="mso-spacerun: yes">&nbsp\; </SPAN>As fate would have it\, the door of his lab career shut\, and in 2003\, Small Wonders Photography was created. <o:p></o:p></FONT></P><P style="MARGIN: 0in 0in 0pt" class=MsoNormal><o:p><FONT face=Calibri>&nbsp\;</FONT></o:p></P><P style="MARGIN: 0in 0in 0pt" class=MsoNormal><FONT face=Calibri>The hours of operation are Tuesday through Saturday\, from 9:00am-5:30pm.<SPAN style="mso-spacerun: yes">&nbsp\; </SPAN>The business is closed on Monday and Sunday. For more information visit </FONT><A href="http://www.smallwondphoto.com">www.smallwondphoto.com</A><FONT face=Calibri>.<o:p></o:p></FONT></P><P style="MARGIN: 0in 0in 0pt" class=MsoNormal><o:p><FONT face=Calibri>&nbsp\;</FONT></o:p></P><P style="MARGIN: 0in 0in 0pt" class=MsoNormal><FONT face=Calibri>Ryan Jantzi\, Manager of Operations for the Downtown Davenport Partnership\, will be speaking on behalf of the Quad Cities Chamber of Commerce.<o:p></o:p></FONT></P><P>&nbsp\;</P>
LOCATION:Small Wonders Photography225 E. 2nd Ste.\, 205 Davenport\, IA 52801
UID:e.2843.751
SEQUENCE:3
DTSTAMP:20260421T235628Z
URL:https://member.quadcitieschamber.com/events/details/small-wonders-photography-10-year-anniversary-ribbon-cutting-12-04-2013-751
END:VEVENT

END:VCALENDAR
