BEGIN:VCALENDAR
VERSION:2.0
PRODID:-//ChamberMaster//Event Calendar 2.0//EN
METHOD:PUBLISH
X-PUBLISHED-TTL:P3D
REFRESH-INTERVAL:P3D
CALSCALE:GREGORIAN
BEGIN:VEVENT
DTSTART:20091208T060000Z
DTEND:20091208T060000Z
X-MICROSOFT-CDO-ALLDAYEVENT:FALSE
SUMMARY:Smoking Cessation: Effective\, Proven Ways to Get Employees to Stop Smoking for Good
DESCRIPTION:Smoking Cessation: Effective\, Proven Ways to Get Employees to Stop Smoking for Good
X-ALT-DESC;FMTTYPE=text/html:Smoking Cessation: Effective\, Proven Ways to Get Employees to Stop Smoking for Good
LOCATION:
UID:e.2843.4198
SEQUENCE:3
DTSTAMP:20260424T104803Z
URL:https://member.quadcitieschamber.com/events/details/smoking-cessation-effective-proven-ways-to-get-employees-to-stop-smoking-for-good-12-08-2009-4198
END:VEVENT

END:VCALENDAR
