BEGIN:VCALENDAR
VERSION:2.0
PRODID:-//ChamberMaster//Event Calendar 2.0//EN
METHOD:PUBLISH
X-PUBLISHED-TTL:P3D
REFRESH-INTERVAL:P3D
CALSCALE:GREGORIAN
BEGIN:VEVENT
DTSTART:20131213T160000Z
DTEND:20131213T163000Z
X-MICROSOFT-CDO-ALLDAYEVENT:FALSE
SUMMARY:Snap Fitness Grand Opening Ribbon Cutting
DESCRIPTION:Snap Fitness\, located at 2660 E. 53rd St. Davenport\, IA 52807\, will celebrate their grand opening with a ribbon cutting on Friday\, December 13th at 10:00am.    http://www.snapfitness.com/gyms/davenport-ia-52807/5696.  Snap Fitness offers the newest\, most state-of-the-art equipment in a clean\, friendly\, family atmosphere with the most educated personal trainers around to help you achieve your goals.  They also offer services including a fitscore\, equipment orientation\, meal planning\, and 1-on-1 and group personal training. If you are looking for results\, visit Snap Fitness. Snap Fitness offers discounts for military\, fire and law enforcement.  For more information\, please visit. www.snapfitness.com.
X-ALT-DESC;FMTTYPE=text/html:<P style="MARGIN: 0in 0in 0pt" class=MsoNormal><P style="MARGIN: 0in 0in 0pt" class=MsoNormal><FONT face=Calibri>Snap Fitness\, <B style="mso-bidi-font-weight: normal">located at 2660 E. 53<SUP>rd</SUP> St. Davenport\, IA 52807</B>\, will celebrate their grand opening with a ribbon cutting on <B style="mso-bidi-font-weight: normal">Friday\, December 13<SUP>th</SUP> at 10:00am</B>.<SPAN style="mso-spacerun: yes">&nbsp\; </SPAN><SPAN style="mso-spacerun: yes">&nbsp\;&nbsp\;</SPAN></FONT><A href="http://www.snapfitness.com/gyms/davenport-ia-52807/5696">http://www.snapfitness.com/gyms/davenport-ia-52807/5696</A><FONT face=Calibri>. <?xml:namespace prefix = o ns = "urn:schemas-microsoft-com:office:office" /><o:p></o:p></FONT></P><P style="MARGIN: 0in 0in 0pt" class=MsoNormal><o:p><FONT face=Calibri>&nbsp\;</FONT></o:p></P><P style="MARGIN: 0in 0in 0pt" class=MsoNormal><FONT face=Calibri>Snap Fitness offers the newest\, most state-of-the-art equipment in a clean\, friendly\, family atmosphere with the most educated personal trainers around to help you achieve your goals.<SPAN style="mso-spacerun: yes">&nbsp\; </SPAN>They also offer services including a fitscore\, equipment orientation\, meal planning\, and 1-on-1 and group personal training. If you are looking for results\, visit Snap Fitness.<o:p></o:p></FONT></P><P style="MARGIN: 0in 0in 0pt" class=MsoNormal><o:p><FONT face=Calibri>&nbsp\;</FONT></o:p></P><P style="MARGIN: 0in 0in 0pt" class=MsoNormal><FONT face=Calibri>Snap Fitness offers discounts for military\, fire and law enforcement.<SPAN style="mso-spacerun: yes">&nbsp\; </SPAN>For more information\, please visit. </FONT><A href="http://www.snapfitness.com">www.snapfitness.com</A><FONT face=Calibri>. <SPAN style="mso-spacerun: yes">&nbsp\;</SPAN></FONT><o:p></o:p></P><P>&nbsp\;</P>
LOCATION:Snap Fitness - Davenport2660 E. 53rd St. Davenport\, IA 52807
UID:e.2843.757
SEQUENCE:3
DTSTAMP:20260421T235628Z
URL:https://member.quadcitieschamber.com/events/details/snap-fitness-grand-opening-ribbon-cutting-12-13-2013-757
END:VEVENT

END:VCALENDAR
