BEGIN:VCALENDAR
VERSION:2.0
PRODID:-//ChamberMaster//Event Calendar 2.0//EN
METHOD:PUBLISH
X-PUBLISHED-TTL:P3D
REFRESH-INTERVAL:P3D
CALSCALE:GREGORIAN
BEGIN:VEVENT
DTSTART:20201107T220000Z
DTEND:20201115T233000Z
X-MICROSOFT-CDO-ALLDAYEVENT:FALSE
SUMMARY:Snow White 2.Zoom : The Evil Queen Returns
DESCRIPTION:Snow White 2.Zoom The Evil Queen Returns FREE Live-Streaming Show!!! In REAL TIME on the DJT Website\, YouTube\, and Facebook pages! Saturdays\, November 7 & 14 @ 4:00pm Sundays\, November 8 & 15 @ 1:00pm and 4:00pm Inspired by the winner of our Student Play Competition\, Julia Reagan's The Evil Queen Returns\, Snow Whit 2.Zoom is a celebration of all things Snow White. Hosted by our very own Showtime Pal\, the show celebrates classic Snow White scenes all tied together by the band of Dwarfs telling their side of the story. Join us for our first ever virtual production!
X-ALT-DESC;FMTTYPE=text/html:Snow White 2.Zoom The Evil Queen Returns FREE Live-Streaming Show!!! In REAL TIME on the DJT Website\, YouTube\, and Facebook pages! Saturdays\, November 7 &amp\; 14 @ 4:00pm Sundays\, November 8 &amp\; 15 @ 1:00pm and 4:00pm Inspired by the winner of our Student Play Competition\, Julia Reagan&rsquo\;s The Evil Queen Returns\, Snow Whit 2.Zoom is a celebration of all things Snow White. Hosted by our very own Showtime Pal\, the show celebrates classic Snow White scenes all tied together by the band of Dwarfs telling their side of the story. Join us for our first ever virtual production!
LOCATION:Virtual - Information at https://www.davenportjuniortheatre.org
UID:e.2843.18222
SEQUENCE:3
DTSTAMP:20260421T093315Z
URL:https://member.quadcitieschamber.com/events/details/snow-white-2-zoom-the-evil-queen-returns-18222
END:VEVENT

END:VCALENDAR
