BEGIN:VCALENDAR
VERSION:2.0
PRODID:-//ChamberMaster//Event Calendar 2.0//EN
METHOD:PUBLISH
X-PUBLISHED-TTL:P3D
REFRESH-INTERVAL:P3D
CALSCALE:GREGORIAN
BEGIN:VEVENT
DTSTART:20190222T000000Z
DTEND:20190222T013000Z
X-MICROSOFT-CDO-ALLDAYEVENT:FALSE
SUMMARY:Social Security and Your Retirement Seminar
DESCRIPTION:We are excited to share with you the Social Security and Your Retirement Seminar\, brought to you exclusively by Strategic Investment Services. The seminar will be hosted by Dante Trimble\, our financial advisor with Strategic Investment Services located at R.I.A. Federal Credit Union\, on February 21st\, 2019 from 6:00-7:30 pm at Bettendorf Corporate Center\, located at 4343 Utica Ridge Rd. Light refreshments will be served. \n\nYou will learn:\n\n\n	The important rules of the road for receiving Social Security benefits\n\n\n\n	How to evaluate the possible routes you can take to make the most of Social Security benefits\n\n\n\n	Ways to develop a retirement income plan that considers your Social Security situation\n\n\nPlease RSVP by emailing Dante\, at dante.trimble@cunamutual.com prior to February 19th.\n \n\n*Strategic Investment Services Advisors are registered representatives of CUNA Brokerage Services\, Inc. Securities sold\, advisory services offered through CUNA Brokerage Services\, Inc. (CBSI)\, member FINRA/SIPC\, a registered broker/dealer and investment advisor\, which is not an affiliate of the credit union. CBSI is under contract with the financial institution to make securities available to members. Not NCUA/NCUSIF/FDIC insured\, May Lose Value\, No Financial Institution Guarantee. Not a deposit of any financial institution. CUNA Brokerage Services\, Inc. is a registered broker/dealer in all fifty States of the United States of America.
X-ALT-DESC;FMTTYPE=text/html:<p>We are excited to share with you the&nbsp\;<strong><em>Social Security and Your Retirement Seminar</em></strong>\, brought to you exclusively by Strategic Investment Services. The seminar will be hosted by Dante Trimble\, our financial advisor with Strategic Investment Services located at R.I.A. Federal Credit Union\, on&nbsp\;<strong>February 21st</strong>\, 2019 from 6:00-7:30 pm at Bettendorf Corporate Center\, located at 4343 Utica Ridge Rd. Light refreshments will be served.&nbsp\;<br />\nYou will learn:</p>\n\n<ul style="list-style-type:none">\n	<li>The important rules of the road for receiving Social Security benefits</li>\n</ul>\n\n<ul style="list-style-type:none">\n	<li>How to evaluate the possible routes you can take to make the most of Social Security benefits</li>\n</ul>\n\n<ul style="list-style-type:none">\n	<li>Ways to develop a retirement income plan that considers your Social Security situation</li>\n</ul>\n\n<p>Please RSVP by emailing Dante\, at&nbsp\;<a href="mailto:dante.trimble@cunamutual.com" style="margin: 0px\; padding: 0px\; box-sizing: border-box\; background: transparent\; color: rgb(148\, 12\, 19)\;">dante.trimble@cunamutual.com</a>&nbsp\;prior to February 19th.</p>\n&nbsp\;\n\n<p>*Strategic Investment Services Advisors are registered representatives of CUNA Brokerage Services\, Inc. Securities sold\, advisory services offered through CUNA Brokerage Services\, Inc. (CBSI)\, member FINRA/SIPC\, a registered broker/dealer and investment advisor\, which is not an affiliate of the credit union. CBSI is under contract with the financial institution to make securities available to members. Not NCUA/NCUSIF/FDIC insured\, May Lose Value\, No Financial Institution Guarantee. Not a deposit of any financial institution. CUNA Brokerage Services\, Inc. is a registered broker/dealer in all fifty States of the United States of America.</p>\n
LOCATION:R.I.A. Federal Credit Union\, 4343 Utica Ridge Road\, Bettendorf
UID:e.2843.13775
SEQUENCE:3
DTSTAMP:20260422T214632Z
URL:https://member.quadcitieschamber.com/events/details/social-security-and-your-retirement-seminar-13775
END:VEVENT

END:VCALENDAR
