BEGIN:VCALENDAR
VERSION:2.0
PRODID:-//ChamberMaster//Event Calendar 2.0//EN
METHOD:PUBLISH
X-PUBLISHED-TTL:P3D
REFRESH-INTERVAL:P3D
CALSCALE:GREGORIAN
BEGIN:VEVENT
DTSTART:20140306T200000Z
DTEND:20140306T203000Z
X-MICROSOFT-CDO-ALLDAYEVENT:FALSE
SUMMARY:SouthPark Mall 40th year Anniversary Ribbon Cutting
DESCRIPTION:South Park Mall\, Located at 4500 16th St. Moline\, will be celebrating their 40th year anniversary with a ribbon cutting on Thursday\, March 6th at 2:00pm.   The ribbon cutting will be held inside the mall at Younkers Court. There will be cake and live entertainment at the event.  For more information\, please visit www.shopssouthparkmall-il.com.   Paul Rumler\, Executive Vice President and Chief Economic Development Officer\, will be speaking on behalf of the Quad Cities Chamber of Commerce.
X-ALT-DESC;FMTTYPE=text/html:<FONT face=Calibri><SPAN style="FONT-FAMILY: 'Calibri'\,'sans-serif'\; FONT-SIZE: 11pt\; mso-fareast-font-family: 'Times New Roman'\; mso-bidi-font-family: 'Times New Roman'\; mso-ansi-language: EN-US\; mso-fareast-language: EN-US\; mso-bidi-language: AR-SA"><P style="MARGIN: 0in 0in 0pt" class=MsoNormal>South Park Mall\, Located at 4500 16<SUP>th</SUP> St. Moline\, will be celebrating their 40<SUP>th</SUP> year anniversary with a ribbon cutting on Thursday\, March 6<SUP>th</SUP> at 2:00pm.<SPAN style="mso-spacerun: yes">&nbsp\; </SPAN><?xml:namespace prefix = o ns = "urn:schemas-microsoft-com:office:office" /><o:p></o:p></P><P style="MARGIN: 0in 0in 0pt" class=MsoNormal><o:p>&nbsp\;</o:p></P><P style="MARGIN: 0in 0in 0pt" class=MsoNormal>The ribbon cutting will be held inside the mall&nbsp\;at Younkers Court. There will be cake and live entertainment at the event.<SPAN style="mso-spacerun: yes">&nbsp\; </SPAN>For more information\, please visit <A href="http://www.shopssouthparkmall-il.com"><FONT color=#0000ff face="Times New Roman">www.shopssouthparkmall-il.com</FONT></A>. <SPAN style="mso-spacerun: yes">&nbsp\;</SPAN><o:p></o:p></P><P style="MARGIN: 0in 0in 0pt" class=MsoNormal><o:p>&nbsp\;</o:p></P><P style="MARGIN: 0in 0in 0pt" class=MsoNormal>Paul Rumler\, Executive Vice President and Chief Economic Development Officer\, will be speaking on behalf of the Quad Cities Chamber of Commerce.<o:p></o:p></P><P style="MARGIN: 0in 0in 0pt" class=MsoNormal><P style="MARGIN: 0in 0in 0pt" class=MsoNormal></SPAN></FONT>&nbsp\;</P><P></P>
LOCATION:Macerich Southpark Mall LLC4500 16th Street Moline\, IL 61265
UID:e.2843.780
SEQUENCE:3
DTSTAMP:20260422T061708Z
URL:https://member.quadcitieschamber.com/events/details/southpark-mall-40th-year-anniversary-ribbon-cutting-03-06-2014-780
END:VEVENT

END:VCALENDAR
