BEGIN:VCALENDAR
VERSION:2.0
PRODID:-//ChamberMaster//Event Calendar 2.0//EN
METHOD:PUBLISH
X-PUBLISHED-TTL:P3D
REFRESH-INTERVAL:P3D
CALSCALE:GREGORIAN
BEGIN:VEVENT
DTSTART:20170811T144500Z
DTEND:20170812T044500Z
X-MICROSOFT-CDO-ALLDAYEVENT:FALSE
SUMMARY:Special Invitation from Palmer College
DESCRIPTION:Your Invited: Tom Rath to present at Palmer College's 2017 Homecoming event! Tom Rath\, Author of the New York Times bestselling titles\; Are You Fully Charged\, Eat Move Sleep\, StrengthFinders 2.0\, and How Full is Your Bucket? Presents: Fully Charging Your Work and Life.
X-ALT-DESC;FMTTYPE=text/html:Your Invited: Tom Rath to present at Palmer College&#39\;s 2017 Homecoming event! Tom Rath\, Author of the New York Times bestselling titles\; Are You Fully Charged\, Eat Move Sleep\, StrengthFinders 2.0\, and How Full is Your Bucket? Presents: Fully Charging Your Work and Life.
LOCATION:Palmer College of Chiropractic Vickie Anne Palmer Hall 115 W. 7th. St.-Davenport\, Iowa
UID:e.2843.6359
SEQUENCE:3
DTSTAMP:20260423T231232Z
URL:https://member.quadcitieschamber.com/events/details/special-invitation-from-palmer-college-6359
END:VEVENT

END:VCALENDAR
