BEGIN:VCALENDAR
VERSION:2.0
PRODID:-//ChamberMaster//Event Calendar 2.0//EN
METHOD:PUBLISH
X-PUBLISHED-TTL:P3D
REFRESH-INTERVAL:P3D
CALSCALE:GREGORIAN
BEGIN:VEVENT
DTSTART:20170826T230000Z
DTEND:20170827T010000Z
X-MICROSOFT-CDO-ALLDAYEVENT:FALSE
SUMMARY:Special Olympics Iowa Scott County
DESCRIPTION:Silent Auction begins at 6pm Live Auction starts at 7pm Sports Themed appetizers provided We assist over 450 individuals with developmental disabilities in the Quad City area\, All donations are tax deductible and help in providing equipment\, camps\, travel expenses\, and so much more for the Scott County athletes\, as well as the many coaches and volunteers who work with them. Without community support this non-profit program could not exist. It takes a village to make this successful. We look forward to seeing you at our event and are always happy to accept donations of any kind. Please LIKE our Facebook Page @SpecialOlympicsScottCounty to help share the word about our wonderful athletes! Be a Sport\, SUPPORT Special Olympics!
X-ALT-DESC;FMTTYPE=text/html:Silent Auction begins at 6pm Live Auction starts at 7pm Sports Themed appetizers provided We assist over 450 individuals with developmental disabilities in the Quad City area\, All donations are tax deductible and help in providing equipment\, camps\, travel expenses\, and so much more for the Scott County athletes\, as well as the many coaches and volunteers who work with them. Without community support this non-profit program could not exist. It takes a village to make this successful. We look forward to seeing you at our event and are always happy to accept donations of any kind. Please LIKE our Facebook Page @SpecialOlympicsScottCounty to help share the word about our wonderful athletes! Be a Sport\, SUPPORT Special Olympics!
LOCATION:Center for Active Seniors\, Inc. (C.A.S.I.) 1035 West Kimberly Road Davenport\, Iowa 52806
UID:e.2843.6310
SEQUENCE:3
DTSTAMP:20260423T231331Z
URL:https://member.quadcitieschamber.com/events/details/special-olympics-iowa-scott-county-6310
END:VEVENT

END:VCALENDAR
