BEGIN:VCALENDAR
VERSION:2.0
PRODID:-//ChamberMaster//Event Calendar 2.0//EN
METHOD:PUBLISH
X-PUBLISHED-TTL:P3D
REFRESH-INTERVAL:P3D
CALSCALE:GREGORIAN
BEGIN:VEVENT
DTSTART:20190324T173000Z
DTEND:20190324T220000Z
X-MICROSOFT-CDO-ALLDAYEVENT:FALSE
SUMMARY:Special Olympics Polar Plunge at Wick's Lake\, Jumer's Casino and Hotel
DESCRIPTION:Join us at Wick's Lake at Jumer's Casino and Hotel for our annual Polar Plunge to benefit Special Olympics. Visit www.plungeillinois.com to register for the coolest event of the year. Participants are asked to collect a minimum of $100 to participate. All plungers will receive an event sweatshirt and lunch afterwards provide by Jumer's Casino. Proceeds will support our 800 athletes in Rock Island\, Mercer\, Henry\, Stark\, Knox\, Warren\, Fulton\, Henderson\, McDonough and Hancock counties. \n\nPrizes will be awarded for top fundraiser\, top team\, top corporate team\, best costume\, top Law Enforcement team\, youngest participant\, oldest participant and top fundraising Special Olympics athlete. \n\nRegistration begins at 12:30 p.m. with the plunge at 2 p.m. \n\n\n\nFor more information contact jdavis@soill.org
X-ALT-DESC;FMTTYPE=text/html:<span style="background-color:rgb(255\, 255\, 255)\; color:rgb(29\, 33\, 41)\; font-family:helvetica\,arial\,sans-serif\; font-size:14px">Join us at Wick&#39\;s Lake at Jumer&#39\;s Casino and Hotel for our annual Polar Plunge to benefit Special Olympics. Visit </span><a href="https://l.facebook.com/l.php?u=http%3A%2F%2Fwww.plungeillinois.com%2F%3Ffbclid%3DIwAR3cPPrl6eYbvqrPm0r_NwqedLVE9JoXSTS3M-WDXJQERy9WEJC8CpULeFU&amp\;h=AT0pE9VdGDm2YH1ciw0mHwJVD7U2lCkA6qrYzlMLXWW3kdWbtwDpT7KnuEEX0ZoUqWVng_KnNM_FZXCG1WpZvKtZNVQmKzzcT8ut5kYHKhmY2YLkgOM08Hyk699sVo0SOXLAatAo0LL2jkjs" rel="nofollow noopener" style="color: rgb(54\, 88\, 153)\; cursor: pointer\; font-family: Helvetica\, Arial\, sans-serif\; font-size: 14px\; white-space: pre-wrap\; background-color: rgb(255\, 255\, 255)\; outline: none !important\;" target="_blank">www.plungeillinois.com</a><span style="background-color:rgb(255\, 255\, 255)\; color:rgb(29\, 33\, 41)\; font-family:helvetica\,arial\,sans-serif\; font-size:14px"> to register for the coolest event of the year. Participants are asked to collect a minimum of $100 to participate. All plungers will receive an event sweatshirt and lunch afterwards provide by Jumer&#39\;s Casino. Proceeds will support our 800 athletes in Rock Island\, Mercer\, Henry\, Stark\, Knox\, Warren\, Fulton\, Henderson\, McDonough and Hancock counties. </span><br />\n<span style="background-color:rgb(255\, 255\, 255)\; color:rgb(29\, 33\, 41)\; font-family:helvetica\,arial\,sans-serif\; font-size:14px">Prizes will be awarded for top fundraiser\, top team\, top corporate team\, best costume\, top Law Enforcement team\, youngest participant\, oldest participant and top fundraising Special Olympics athlete. </span><br />\n<span style="background-color:rgb(255\, 255\, 255)\; color:rgb(29\, 33\, 41)\; font-family:helvetica\,arial\,sans-serif\; font-size:14px">Registration begins at 12:30 p.m. with the plunge at 2 p.m. </span><br />\n<br />\n<span style="background-color:rgb(255\, 255\, 255)\; color:rgb(29\, 33\, 41)\; font-family:helvetica\,arial\,sans-serif\; font-size:14px">For more information contact jdavis@soill.org</span>
LOCATION:Wick's Lake at Jumer's Casino and Hotel. 777 Jumer Drive\, Rock Island\, IL 61201
UID:e.2843.13756
SEQUENCE:3
DTSTAMP:20260422T183503Z
URL:https://member.quadcitieschamber.com/events/details/special-olympics-polar-plunge-at-wick-s-lake-jumer-s-casino-and-hotel-13756
END:VEVENT

END:VCALENDAR
