BEGIN:VCALENDAR
VERSION:2.0
PRODID:-//ChamberMaster//Event Calendar 2.0//EN
METHOD:PUBLISH
X-PUBLISHED-TTL:P3D
REFRESH-INTERVAL:P3D
CALSCALE:GREGORIAN
BEGIN:VEVENT
DTSTART:20141015T210000Z
DTEND:20141015T220000Z
X-MICROSOFT-CDO-ALLDAYEVENT:FALSE
SUMMARY:Special VIP Event: Learn More About How to Get Involved in Your Quad Cities Chamber
DESCRIPTION:Registration for this event is full. Please watch for future opportunities or for a one-on-one meeting please contact Jessica Webb @ JWebb@QuadCitiesChamber.com
X-ALT-DESC;FMTTYPE=text/html:<DIV style="FONT-FAMILY: Arial"><FONT face="Times New Roman">Registration for this event is full. Please watch for future opportunities or for a one-on-one meeting please contact Jessica Webb @ </FONT><A href="mailto:JWebb@QuadCitiesChamber.com"><FONT face="Times New Roman">JWebb@QuadCitiesChamber.com</FONT></A> </DIV>
LOCATION:The J Bar4215 Elmore Ave. Davenport\, IA 52807
UID:e.2843.900
SEQUENCE:3
DTSTAMP:20260422T174814Z
URL:https://member.quadcitieschamber.com/events/details/special-vip-event-learn-more-about-how-to-get-involved-in-your-quad-cities-chamber-10-15-2014-900
END:VEVENT

END:VCALENDAR
