BEGIN:VCALENDAR
VERSION:2.0
PRODID:-//ChamberMaster//Event Calendar 2.0//EN
METHOD:PUBLISH
X-PUBLISHED-TTL:P3D
REFRESH-INTERVAL:P3D
CALSCALE:GREGORIAN
BEGIN:VEVENT
DTSTART:20140504T130000Z
DTEND:20140514T210000Z
X-MICROSOFT-CDO-ALLDAYEVENT:FALSE
SUMMARY:Spring Battle of the Highschools
DESCRIPTION:Battle of the High Schools & TCR Challenge\, with IL Police Racing Assoc  Open @ 8:00am  Eliminations@ 1:00pm\n	Adults $12  HS Watch $8  Kids (6-12) $3  HS Race $15
X-ALT-DESC;FMTTYPE=text/html:Battle of the High Schools & TCR Challenge\, with IL Police Racing Assoc  Open @ 8:00am  Eliminations@ 1:00pm\n	Adults $12  HS Watch $8  Kids (6-12) $3  HS Race $15\n
LOCATION:Cordova Dragway Park
UID:e.2843.29
SEQUENCE:3
DTSTAMP:20260422T093325Z
URL:https://member.quadcitieschamber.com/events/details/spring-battle-of-the-highschools-05-04-2014-29
END:VEVENT

END:VCALENDAR
