BEGIN:VCALENDAR
VERSION:2.0
PRODID:-//ChamberMaster//Event Calendar 2.0//EN
METHOD:PUBLISH
X-PUBLISHED-TTL:P3D
REFRESH-INTERVAL:P3D
CALSCALE:GREGORIAN
BEGIN:VEVENT
DTSTART:20130320T210000Z
DTEND:20130320T213000Z
X-MICROSOFT-CDO-ALLDAYEVENT:FALSE
SUMMARY:St. Ambrose University 35th Anniversary for MBA Program Ribbon Cutting
DESCRIPTION:Please help St. Ambrose University celebrate the 35th Anniversary of their MBA program with a ribbon cutting on Wednesday\, March 20\, 2013 at 4:00pm.  Located at 518 W. Locust St in Davenport – Rogalski Center\, 3rd Floor. New one-year MBA program beginning Summer 2013! For more information\, please visit www.sau.edu/mba
X-ALT-DESC;FMTTYPE=text/html:<P style="MARGIN: 0in 0in 0pt" class=MsoNormal><FONT face=Calibri>Please help St. Ambrose University celebrate the 35<SUP>th</SUP> Anniversary of their MBA program with a ribbon cutting on Wednesday\, March 20\, 2013 at 4:00pm.<SPAN style="mso-spacerun: yes">&nbsp\; </SPAN>Located at 518 W. Locust St in Davenport – Rogalski Center\, 3<SUP>rd</SUP> Floor.</FONT></P><P style="MARGIN: 0in 0in 0pt" class=MsoNormal><?xml:namespace prefix = o ns = "urn:schemas-microsoft-com:office:office" /><o:p><FONT face=Calibri>&nbsp\;</FONT></o:p></P><P style="MARGIN: 0in 0in 0pt" class=MsoNormal><FONT face=Calibri>New one-year MBA program beginning Summer 2013!</FONT></P><P style="MARGIN: 0in 0in 0pt" class=MsoNormal><o:p><FONT face=Calibri>&nbsp\;</FONT></o:p></P><P style="MARGIN: 0in 0in 0pt" class=MsoNormal><FONT face=Calibri>For more information\, please visit </FONT><A href="http://www.sau.edu/mba"><FONT face="Times New Roman">www.sau.edu/mba</FONT></A></P><DIV>&nbsp\;</DIV>
LOCATION:St. Ambrose University518 W. Locust St. Davenport\, IA 52803
UID:e.2843.487
SEQUENCE:3
DTSTAMP:20260421T105000Z
URL:https://member.quadcitieschamber.com/events/details/st-ambrose-university-35th-anniversary-for-mba-program-ribbon-cutting-03-20-2013-487
END:VEVENT

END:VCALENDAR
