BEGIN:VCALENDAR
VERSION:2.0
PRODID:-//ChamberMaster//Event Calendar 2.0//EN
METHOD:PUBLISH
X-PUBLISHED-TTL:P3D
REFRESH-INTERVAL:P3D
CALSCALE:GREGORIAN
BEGIN:VEVENT
DTSTART:20120821T171500Z
DTEND:20120821T174500Z
X-MICROSOFT-CDO-ALLDAYEVENT:FALSE
SUMMARY:St. Ambrose University/Kreider Hall Ribbon Cutting
DESCRIPTION:Please help St. Ambrose University (and fellow Ambassador Liz Loveless) celebrate the opening of Kreider Hall with a ribbon cutting on Tuesday\, August 21st at 12:15pm.  Please plan to arrive by noon.  The ribbon cutting will follow the convocation\, blessing by the Bishop\, and short presentation by Sister Joan Lescinski. For more information regarding St. Ambrose University\, please visit www.sau.edu
X-ALT-DESC;FMTTYPE=text/html:<DIV style="FONT-FAMILY: Arial"><P style="MARGIN: 0in 0in 0pt" class=MsoNormal><FONT face=Calibri>Please help St. Ambrose University (and fellow Ambassador Liz Loveless) celebrate the opening of Kreider Hall with a ribbon cutting on Tuesday\, August 21<SUP>st</SUP> at 12:15pm.<SPAN style="mso-spacerun: yes">&nbsp\; </SPAN>Please plan to arrive by noon.<SPAN style="mso-spacerun: yes">&nbsp\; </SPAN>The ribbon cutting will follow the convocation\, blessing by the Bishop\, and short presentation by Sister Joan Lescinski.</FONT></P><P style="MARGIN: 0in 0in 0pt" class=MsoNormal><?xml:namespace prefix = o ns = "urn:schemas-microsoft-com:office:office" /><o:p><FONT face=Calibri>&nbsp\;</FONT></o:p></P><P style="MARGIN: 0in 0in 0pt" class=MsoNormal><FONT face=Calibri>For more information regarding St. Ambrose University\, please visit </FONT><A href="http://www.sau.edu"><FONT face="Times New Roman">www.sau.edu</FONT></A><FONT face=Calibri> </FONT></P></DIV>
LOCATION:St. Ambrose University / Kreider Hall518 West Locust Street Davenport\, IA
UID:e.2843.403
SEQUENCE:3
DTSTAMP:20260421T220239Z
URL:https://member.quadcitieschamber.com/events/details/st-ambrose-university-kreider-hall-ribbon-cutting-08-21-2012-403
END:VEVENT

END:VCALENDAR
