BEGIN:VCALENDAR
VERSION:2.0
PRODID:-//ChamberMaster//Event Calendar 2.0//EN
METHOD:PUBLISH
X-PUBLISHED-TTL:P3D
REFRESH-INTERVAL:P3D
CALSCALE:GREGORIAN
BEGIN:VEVENT
DTSTART:20121023T200000Z
DTEND:20121023T203000Z
X-MICROSOFT-CDO-ALLDAYEVENT:FALSE
SUMMARY:St. Ambrose University - Professional Development Open House & Ribbon Cutting
DESCRIPTION:Please help St. Ambrose University – Professional Development celebrate their new location at the New Ventures Center with an Open House and Ribbon Cutting on Tuesday\, October 23rd at 3:00pm.  The Open House hours are 3pm to 5pm.  The New Ventures Center is located at 331 W. Third Street in downtown Davenport – the corner of Third and Ripley. For more information\, please visit www.sau.edu/pd
X-ALT-DESC;FMTTYPE=text/html:<P style="MARGIN: 0in 0in 0pt" class=MsoNormal><FONT face=Calibri>Please help St. Ambrose University – Professional Development celebrate their new location at the New Ventures Center with an Open House and Ribbon Cutting on Tuesday\, October 23<SUP>rd</SUP> at 3:00pm.<SPAN style="mso-spacerun: yes">&nbsp\; </SPAN>The Open House hours are 3pm to 5pm.<SPAN style="mso-spacerun: yes">&nbsp\; </SPAN>The New Ventures Center is located at 331 W. Third Street in downtown Davenport – the corner of Third and Ripley.</FONT></P><P style="MARGIN: 0in 0in 0pt" class=MsoNormal><?xml:namespace prefix = o ns = "urn:schemas-microsoft-com:office:office" /><o:p><FONT face=Calibri>&nbsp\;</FONT></o:p></P><P style="MARGIN: 0in 0in 0pt" class=MsoNormal><FONT face=Calibri>For more information\, please visit </FONT><A href="http://www.sau.edu/pd">www.sau.edu/pd</A><FONT face=Calibri> </FONT></P><DIV style="FONT-FAMILY: Arial">&nbsp\;</DIV>
LOCATION:New Ventures Center331 W. Third Street Ste 100 Davenport\, IA 52806
UID:e.2843.409
SEQUENCE:3
DTSTAMP:20260421T183826Z
URL:https://member.quadcitieschamber.com/events/details/st-ambrose-university-professional-development-open-house-ribbon-cutting-10-23-2012-409
END:VEVENT

END:VCALENDAR
