BEGIN:VCALENDAR
VERSION:2.0
PRODID:-//ChamberMaster//Event Calendar 2.0//EN
METHOD:PUBLISH
X-PUBLISHED-TTL:P3D
REFRESH-INTERVAL:P3D
CALSCALE:GREGORIAN
BEGIN:VEVENT
DTSTART:20190607T120000Z
DTEND:20190607T180000Z
X-MICROSOFT-CDO-ALLDAYEVENT:FALSE
SUMMARY:St Florian Burn Foundation Golf Tournament hosted by Blaze
DESCRIPTION:Blaze Restoration Inc. will host a four person prefered ball golf outing to support St. Florian Burn Foundation at Palmer Hills Golf Course in Bettendorf Iowa. Shotgun start at 8 am with lunch provided when play ends\, non golfers are welcome to join us for lunch.
X-ALT-DESC;FMTTYPE=text/html:Blaze Restoration Inc. will host a four person prefered ball golf outing to support St. Florian Burn Foundation at Palmer Hills Golf Course in Bettendorf Iowa. Shotgun start at 8 am with lunch provided when play ends\, non golfers are welcome to join us for lunch.
LOCATION:Palmer Hills golf course 2999 Middle Rd. Bettendorf\, ia. 52722
UID:e.2843.15344
SEQUENCE:3
DTSTAMP:20260422T131536Z
URL:https://member.quadcitieschamber.com/events/details/st-florian-burn-foundation-golf-tournament-hosted-by-blaze-15344
END:VEVENT

END:VCALENDAR
