BEGIN:VCALENDAR
VERSION:2.0
PRODID:-//ChamberMaster//Event Calendar 2.0//EN
METHOD:PUBLISH
X-PUBLISHED-TTL:P3D
REFRESH-INTERVAL:P3D
CALSCALE:GREGORIAN
BEGIN:VEVENT
DTSTART:20180228T230000Z
DTEND:20180301T003000Z
X-MICROSOFT-CDO-ALLDAYEVENT:FALSE
SUMMARY:Starting Your Business in Illinois
DESCRIPTION:You Will Learn...   Choosing a Business Name   Types of Business Ownership   Licenses and Permits   Obtaining a Tax ID Number   Business Bank Accounts   Insurance   Paying taxes - Sales tax\, Payroll   Basic Recordkeeping This is NOT typically for someone who is already in business!
X-ALT-DESC;FMTTYPE=text/html:You Will Learn... &bull\; Choosing a Business Name &bull\; Types of Business Ownership &bull\; Licenses and Permits &bull\; Obtaining a Tax ID Number &bull\; Business Bank Accounts &bull\; Insurance &bull\; Paying taxes - Sales tax\, Payroll &bull\; Basic Recordkeeping This is NOT typically for someone who is already in business!
LOCATION:Western Illinois University Quad Cities 3300 River Drive COMPLEX B ROOM 2102 PLEASE PARK OFF OF RIVER DRIVE ON THE LEVEE!
UID:e.2843.10026
SEQUENCE:3
DTSTAMP:20260423T152934Z
URL:https://member.quadcitieschamber.com/events/details/starting-your-business-in-illinois-10026
END:VEVENT

END:VCALENDAR
