BEGIN:VCALENDAR
VERSION:2.0
PRODID:-//ChamberMaster//Event Calendar 2.0//EN
METHOD:PUBLISH
X-PUBLISHED-TTL:P3D
REFRESH-INTERVAL:P3D
CALSCALE:GREGORIAN
BEGIN:VEVENT
DTSTART:20170623T220000Z
DTEND:20170623T233000Z
X-MICROSOFT-CDO-ALLDAYEVENT:FALSE
SUMMARY:State of the Arsenal Community Meeting
DESCRIPTION:The Quad Cities Chamber of Commerce\, in partnership with the Rock Island Arsenal\, will host General Daly who will give a presentation to the community on the state of the Rock Island Arsenal.  This town hall style meeting will take place on Friday\, June 23rd\, from 5   6:30 pm\, at the iWireless Center in Moline. \n\n\n\nGeneral Daly will make a presentation about the state of affairs on Rock Island Arsenal\, and then answer audience questions.  To confirm your attendance at this meeting\, go to quadcitieschamber.com/events\, or call 563.823.2690.  Registration is not required but is encouraged.
X-ALT-DESC;FMTTYPE=text/html:<span style="font-size:14px\;"><span style="font-family:arial\;">The Quad Cities Chamber of Commerce\, in partnership with the Rock Island Arsenal\, will host General Daly who will give a presentation to the community on the state of the Rock Island Arsenal.&nbsp\; This town hall style meeting will take place on Friday\, June 23<sup>rd</sup>\, from 5 &ndash\; 6:30 pm\, at the iWireless Center in Moline.&nbsp\;<br />\n<br />\nGeneral Daly will make a presentation about the state of affairs on Rock Island Arsenal\, and then answer audience questions.&nbsp\; To confirm your attendance at this meeting\, go to quadcitieschamber.com/events\, or call 563.823.2690.&nbsp\; Registration is not required but is encouraged.&nbsp\;</span></span>
LOCATION:iWireless Center 1201 River Dr. Moline\, IL 61265
UID:e.2843.6076
SEQUENCE:3
DTSTAMP:20260424T015326Z
URL:https://member.quadcitieschamber.com/events/details/state-of-the-arsenal-community-meeting-6076
END:VEVENT

END:VCALENDAR
