BEGIN:VCALENDAR
VERSION:2.0
PRODID:-//ChamberMaster//Event Calendar 2.0//EN
METHOD:PUBLISH
X-PUBLISHED-TTL:P3D
REFRESH-INTERVAL:P3D
CALSCALE:GREGORIAN
BEGIN:VEVENT
DTSTART:20090609T050000Z
DTEND:20090609T050000Z
X-MICROSOFT-CDO-ALLDAYEVENT:FALSE
SUMMARY:State of the Community - PAY AT DOOR
DESCRIPTION:State of the Community - PAY AT DOOR
X-ALT-DESC;FMTTYPE=text/html:State of the Community - PAY AT DOOR
LOCATION:
UID:e.2843.3721
SEQUENCE:3
DTSTAMP:20260424T074128Z
URL:https://member.quadcitieschamber.com/events/details/state-of-the-community-pay-at-door-06-09-2009-3721
END:VEVENT

END:VCALENDAR
