BEGIN:VCALENDAR
VERSION:2.0
PRODID:-//ChamberMaster//Event Calendar 2.0//EN
METHOD:PUBLISH
X-PUBLISHED-TTL:P3D
REFRESH-INTERVAL:P3D
CALSCALE:GREGORIAN
BEGIN:VEVENT
DTSTART:20090609T050000Z
DTEND:20090609T050000Z
X-MICROSOFT-CDO-ALLDAYEVENT:FALSE
SUMMARY:State of the Community - VENDORS
DESCRIPTION:State of the Community - VENDORS
X-ALT-DESC;FMTTYPE=text/html:State of the Community - VENDORS
LOCATION:
UID:e.2843.3717
SEQUENCE:3
DTSTAMP:20260424T073939Z
URL:https://member.quadcitieschamber.com/events/details/state-of-the-community-vendors-06-09-2009-3717
END:VEVENT

END:VCALENDAR
