BEGIN:VCALENDAR
VERSION:2.0
PRODID:-//ChamberMaster//Event Calendar 2.0//EN
METHOD:PUBLISH
X-PUBLISHED-TTL:P3D
REFRESH-INTERVAL:P3D
CALSCALE:GREGORIAN
BEGIN:VEVENT
DTSTART:20130323T150000Z
DTEND:20130323T153000Z
X-MICROSOFT-CDO-ALLDAYEVENT:FALSE
SUMMARY:State Representative Mike Smiddy Ribbon Cutting
DESCRIPTION:Please help celebrate the opening of Representative Mike Smiddy’s new office on Saturday\, March 23rd at 10:00am – located at 201 N. Main St.\, Unit 2 in Port Byron. Representative Mike Smiddy’s office is open to serve constituents in the 71st District.
X-ALT-DESC;FMTTYPE=text/html:<P style="MARGIN: 0in 0in 0pt" class=MsoNormal><FONT face=Calibri>Please help celebrate the opening of Representative Mike Smiddy’s new office on <B style="mso-bidi-font-weight: normal">Saturday\, March 23<SUP>rd</SUP> at 10:00am</B> – located at 201 N. Main St.\, Unit 2 in Port Byron.</FONT></P><P style="MARGIN: 0in 0in 0pt" class=MsoNormal><?xml:namespace prefix = o ns = "urn:schemas-microsoft-com:office:office" /><o:p><FONT face=Calibri>&nbsp\;</FONT></o:p></P><P style="MARGIN: 0in 0in 0pt" class=MsoNormal><FONT face=Calibri>Representative Mike Smiddy’s office is open to serve constituents in the 71<SUP>st</SUP> District.</FONT></P><DIV>&nbsp\;</DIV>
LOCATION:201 N. Main St.\, Unit 2 Port Byron\, IL
UID:e.2843.546
SEQUENCE:3
DTSTAMP:20260421T091152Z
URL:https://member.quadcitieschamber.com/events/details/state-representative-mike-smiddy-ribbon-cutting-03-23-2013-546
END:VEVENT

END:VCALENDAR
