BEGIN:VCALENDAR
VERSION:2.0
PRODID:-//ChamberMaster//Event Calendar 2.0//EN
METHOD:PUBLISH
X-PUBLISHED-TTL:P3D
REFRESH-INTERVAL:P3D
CALSCALE:GREGORIAN
BEGIN:VEVENT
DTSTART:20120913T214500Z
DTEND:20120913T220000Z
X-MICROSOFT-CDO-ALLDAYEVENT:FALSE
SUMMARY:Stern Center Grand Opening and Ribbon Cutting
DESCRIPTION:Please help celebrate the Grand Opening and Ribbon Cutting for the Stern Center on Thursday\, September 13th at 4:45pm (prior to the kick off of Schmooza Palooza!).  Located at 1713 3rd Avenue in downtown Rock Island – formerly Hyman’s Furniture. The Stern Center’s Grand Ballroom and Mezzanine hold up to 800 people.  A new bar overlooks the grand ballroom and brand new bathrooms and kitchen complete the renovations.  For more information\, visit www.sterncenter.biz
X-ALT-DESC;FMTTYPE=text/html:<DIV><P style="MARGIN: 0in 0in 0pt" class=MsoNormal><FONT face=Calibri>Please help celebrate the Grand Opening and Ribbon Cutting for the Stern Center on Thursday\, September 13<SUP>th</SUP> at 4:45pm (prior to the kick off of Schmooza Palooza!).<SPAN style="mso-spacerun: yes">&nbsp\; </SPAN>Located at 1713 3<SUP>rd</SUP> Avenue in downtown Rock Island – formerly Hyman’s Furniture.</FONT></P><P style="MARGIN: 0in 0in 0pt" class=MsoNormal><?xml:namespace prefix = o ns = "urn:schemas-microsoft-com:office:office" /><o:p><FONT face=Calibri>&nbsp\;</FONT></o:p></P><P style="MARGIN: 0in 0in 0pt" class=MsoNormal><FONT face=Calibri>The Stern Center’s Grand Ballroom and Mezzanine hold up to 800 people.<SPAN style="mso-spacerun: yes">&nbsp\; </SPAN>A new bar overlooks the grand ballroom and brand new bathrooms and kitchen complete the renovations.<SPAN style="mso-spacerun: yes">&nbsp\; </SPAN>For more information\, visit </FONT><A href="http://www.sterncenter.biz"><FONT face="Times New Roman">www.sterncenter.biz</FONT></A><FONT face=Calibri> </FONT></P></DIV>
LOCATION:Stern Center1713 3rd Avenue Rock Island\, IL 61201
UID:e.2843.429
SEQUENCE:3
DTSTAMP:20260421T184646Z
URL:https://member.quadcitieschamber.com/events/details/stern-center-grand-opening-and-ribbon-cutting-09-13-2012-429
END:VEVENT

END:VCALENDAR
