BEGIN:VCALENDAR
VERSION:2.0
PRODID:-//ChamberMaster//Event Calendar 2.0//EN
METHOD:PUBLISH
X-PUBLISHED-TTL:P3D
REFRESH-INTERVAL:P3D
CALSCALE:GREGORIAN
BEGIN:VEVENT
DTSTART:20120329T170000Z
DTEND:20120329T173000Z
X-MICROSOFT-CDO-ALLDAYEVENT:FALSE
SUMMARY:Stine Chiropractic Clinic Ribbon Cutting
DESCRIPTION:Please help celebrate the Grand Opening & Ribbon Cutting for Stine Chiropractic Clinic on Thursday\, March 29th at noon.  The address is 400 N. Main Street\, Suite 104 in downtown Davenport – on the corner of Main St. and 4th St. Choose a chiropractor with experience.  Dr. Marty Stine\, now located in downtown Davenport offers 15 years of family practice experience with a specialty certification in spinal trauma.  Providing exceptional service in a timely manner at a price you can afford.  Please allow us to help you today! For more information\, visit www.stinechiro.net
X-ALT-DESC;FMTTYPE=text/html:<DIV style="FONT-FAMILY: Arial"><SPAN style="FONT-FAMILY: 'Arial'\,'sans-serif'\; FONT-SIZE: 10pt"><P style="MARGIN: 0in 0in 0pt" class=MsoNormal><SPAN style="FONT-FAMILY: 'Trebuchet MS'\,'sans-serif'\; FONT-SIZE: 8.5pt\; mso-bidi-font-family: Arial">Please help celebrate the Grand Opening &amp\; Ribbon Cutting for Stine Chiropractic Clinic on Thursday\, March 29<SUP>th</SUP> at noon.<SPAN style="mso-spacerun: yes">&nbsp\; </SPAN>The address is 400 N. Main Street\, Suite 104 in downtown Davenport – on the corner of Main St. and 4<SUP>th</SUP> St.<?xml:namespace prefix = o ns = "urn:schemas-microsoft-com:office:office" /><o:p></o:p></SPAN></P><P style="MARGIN: 0in 0in 0pt" class=MsoNormal><SPAN style="FONT-FAMILY: 'Trebuchet MS'\,'sans-serif'\; FONT-SIZE: 8.5pt\; mso-bidi-font-family: Arial"><o:p>&nbsp\;</o:p></SPAN></P><P style="MARGIN: 0in 0in 0pt" class=MsoNormal><SPAN style="FONT-FAMILY: 'Trebuchet MS'\,'sans-serif'\; FONT-SIZE: 8.5pt\; mso-bidi-font-family: Arial">Choose a chiropractor with experience.<SPAN style="mso-spacerun: yes">&nbsp\; </SPAN>Dr. Marty Stine\, now located in downtown Davenport offers 15 years of family practice experience with a specialty certification in spinal trauma.<SPAN style="mso-spacerun: yes">&nbsp\; </SPAN>Providing exceptional service in a timely manner at a price you can afford.<SPAN style="mso-spacerun: yes">&nbsp\; </SPAN>Please allow us to help you today!<o:p></o:p></SPAN></P><P style="MARGIN: 0in 0in 0pt" class=MsoNormal><SPAN style="FONT-FAMILY: 'Trebuchet MS'\,'sans-serif'\; FONT-SIZE: 8.5pt\; mso-bidi-font-family: Arial"><o:p>&nbsp\;</o:p></SPAN></P><P style="MARGIN: 0in 0in 0pt" class=MsoNormal><SPAN style="FONT-FAMILY: 'Trebuchet MS'\,'sans-serif'\; FONT-SIZE: 8.5pt\; mso-bidi-font-family: Arial">For more information\, visit <A href="http://www.stinechiro.net">www.stinechiro.net</A> <o:p></o:p></SPAN></P><P style="MARGIN: 0in 0in 0pt" class=MsoNormal></SPAN></P></DIV>
LOCATION:Stine Chiropractic Clinic\, PLLC400 N. Main St.\, Suite 104 Davenport\, IA 52801
UID:e.2843.362
SEQUENCE:3
DTSTAMP:20260422T080221Z
URL:https://member.quadcitieschamber.com/events/details/stine-chiropractic-clinic-ribbon-cutting-03-29-2012-362
END:VEVENT

END:VCALENDAR
