BEGIN:VCALENDAR
VERSION:2.0
PRODID:-//ChamberMaster//Event Calendar 2.0//EN
METHOD:PUBLISH
X-PUBLISHED-TTL:P3D
REFRESH-INTERVAL:P3D
CALSCALE:GREGORIAN
BEGIN:VEVENT
DTSTART:20171004T163000Z
DTEND:20171004T173000Z
X-MICROSOFT-CDO-ALLDAYEVENT:FALSE
SUMMARY:Storytelling to Build Your Brand
DESCRIPTION:Storytelling to Build Your Brand\n\nFeaturing Stephanie Soebbing\, Quilt Addicts Anonymous and Angie Kendall\, Child Abuse Council\n\n\n\nHow can a good story drive sales? Stephanie Soebbing\, Quilt Addicts Anonymous and Angie Kendall from the Child Abuse Council will talk about how they use storytelling and content marketing to reach their audiences\, including which platforms they use and why\, what goals they achieved through their efforts and the resources required to pull it all off.
X-ALT-DESC;FMTTYPE=text/html:<span style="font-size:14px\;"><span style="font-family:arial\;"><strong>Storytelling to Build Your Brand</strong><br />\nFeaturing Stephanie Soebbing\, Quilt Addicts Anonymous and Angie Kendall\, Child Abuse Council<br />\n<br />\nHow can a good story drive sales? Stephanie Soebbing\, Quilt Addicts Anonymous and Angie Kendall from the Child Abuse Council will talk about how they use storytelling and content marketing to reach their audiences\, including which platforms they use and </span></span><span style="font-family:calibri\,sans-serif\;"><span style="font-size:11.0pt\;"><span style="font-size:14px\;"><span style="font-family:arial\;">why\,</span></span></span></span><span style="font-size:14px\;"><span style="font-family:arial\;">&nbsp\;what goals they achieved through their efforts and the resources required to pull it all off.</span></span>
LOCATION:Boys & Girls Club 1122 5th Ave.\, Moline
UID:e.2843.8552
SEQUENCE:3
DTSTAMP:20260423T210320Z
URL:https://member.quadcitieschamber.com/events/details/storytelling-to-build-your-brand-8552
END:VEVENT

END:VCALENDAR
