BEGIN:VCALENDAR
VERSION:2.0
PRODID:-//ChamberMaster//Event Calendar 2.0//EN
METHOD:PUBLISH
X-PUBLISHED-TTL:P3D
REFRESH-INTERVAL:P3D
CALSCALE:GREGORIAN
BEGIN:VEVENT
DTSTART:20110729T130000Z
DTEND:20110731T050000Z
X-MICROSOFT-CDO-ALLDAYEVENT:FALSE
SUMMARY:Street Fest 2011
DESCRIPTION:
X-ALT-DESC;FMTTYPE=text/html:
LOCATION:Downtown Davenport
UID:e.2843.170
SEQUENCE:3
DTSTAMP:20260422T181528Z
URL:https://member.quadcitieschamber.com/events/details/street-fest-2011-07-29-2011-170
END:VEVENT

END:VCALENDAR
