BEGIN:VCALENDAR
VERSION:2.0
PRODID:-//ChamberMaster//Event Calendar 2.0//EN
METHOD:PUBLISH
X-PUBLISHED-TTL:P3D
REFRESH-INTERVAL:P3D
CALSCALE:GREGORIAN
BEGIN:VEVENT
DTSTART:20120727T130000Z
DTEND:20120729T050000Z
X-MICROSOFT-CDO-ALLDAYEVENT:FALSE
SUMMARY:Street Fest 2012
DESCRIPTION:41st Annual Street Fest Presented by the Mississippi Valley Regional Blood Center Bix 7 Weekend -  July 27 & 28FREE Admission! Friday\, July 27 10 a.m. - MidnightSaturday\, July 28 9 a.m. - Midnight Street Fest will be on 2nd St. between Brady & Ripley. What to expect:TONS of festival food & drinksGreat live musicDozens of arts & crafts vendorsFamily Fun AreaVideo Games Etc. tournamentsAnd more!
X-ALT-DESC;FMTTYPE=text/html:<DIV><P style="MARGIN: 0in 0in 0pt" class=MsoNormal><FONT face=Calibri><STRONG>41<SUP>st</SUP> Annual Street Fest </STRONG></FONT></P><P style="MARGIN: 0in 0in 0pt" class=MsoNormal><FONT face=Calibri><STRONG>Presented by the Mississippi Valley Regional Blood Center</STRONG></FONT></P><P style="MARGIN: 0in 0in 0pt" class=MsoNormal><?xml:namespace prefix = o ns = "urn:schemas-microsoft-com:office:office" /><o:p><FONT face=Calibri>&nbsp\;</FONT></o:p></P><P style="MARGIN: 0in 0in 0pt" class=MsoNormal><FONT face=Calibri>Bix 7 Weekend - &nbsp\;July 27 &amp\;&nbsp\;28</FONT></P><P style="MARGIN: 0in 0in 0pt" class=MsoNormal><FONT face=Calibri><STRONG>FREE</STRONG> Admission!</FONT></P><P style="MARGIN: 0in 0in 0pt" class=MsoNormal><o:p><FONT face=Calibri>&nbsp\;</FONT></o:p></P><P style="MARGIN: 0in 0in 0pt" class=MsoNormal><FONT face=Calibri>Friday\, July 27 10 a.m.&nbsp\;- Midnight</FONT></P><P style="MARGIN: 0in 0in 0pt" class=MsoNormal><FONT face=Calibri>Saturday\, July 28 9 a.m. - Midnight</FONT></P><P style="MARGIN: 0in 0in 0pt" class=MsoNormal><o:p><FONT face=Calibri>&nbsp\;</FONT></o:p></P><P style="MARGIN: 0in 0in 0pt" class=MsoNormal><FONT face=Calibri>Street Fest will be on 2<SUP>nd</SUP> St. between Brady &amp\; Ripley.</FONT></P><P style="MARGIN: 0in 0in 0pt" class=MsoNormal>&nbsp\;</P><P style="MARGIN: 0in 0in 0pt" class=MsoNormal><FONT face=Calibri><STRONG><U>What to expect:</U></STRONG></FONT></P><P style="MARGIN: 0in 0in 0pt" class=MsoNormal><FONT face=Calibri>TONS of festival food &amp\; drinks</FONT></P><P style="MARGIN: 0in 0in 0pt" class=MsoNormal><FONT face=Calibri>Great live music</FONT></P><P style="MARGIN: 0in 0in 0pt" class=MsoNormal><FONT face=Calibri>Dozens of arts &amp\; crafts vendors</FONT></P><P style="MARGIN: 0in 0in 0pt" class=MsoNormal><FONT face=Calibri>Family Fun Area</FONT></P><P style="MARGIN: 0in 0in 0pt" class=MsoNormal><FONT face=Calibri>Video Games Etc. tournaments</FONT></P><P style="MARGIN: 0in 0in 0pt" class=MsoNormal><FONT face=Calibri>And more!</FONT></P><P style="MARGIN: 0in 0in 0pt" class=MsoNormal><FONT face=Calibri></FONT>&nbsp\;</P><P style="MARGIN: 0in 0in 0pt" class=MsoNormal><FONT face=Calibri></FONT>&nbsp\;</P></DIV>
LOCATION:Downtown Davenport
UID:e.2843.245
SEQUENCE:3
DTSTAMP:20260421T215821Z
URL:https://member.quadcitieschamber.com/events/details/street-fest-2012-07-27-2012-245
END:VEVENT

END:VCALENDAR
