BEGIN:VCALENDAR
VERSION:2.0
PRODID:-//ChamberMaster//Event Calendar 2.0//EN
METHOD:PUBLISH
X-PUBLISHED-TTL:P3D
REFRESH-INTERVAL:P3D
CALSCALE:GREGORIAN
BEGIN:VEVENT
DTSTART:20130726T050000Z
DTEND:20130727T050000Z
X-MICROSOFT-CDO-ALLDAYEVENT:FALSE
SUMMARY:Street Fest 2013
DESCRIPTION:Street Fest 2013
X-ALT-DESC;FMTTYPE=text/html:Street Fest 2013
LOCATION:Downtown Davenport
UID:e.2843.1635
SEQUENCE:3
DTSTAMP:20260421T165920Z
URL:https://member.quadcitieschamber.com/events/details/street-fest-2013-07-26-2013-1635
END:VEVENT

END:VCALENDAR
