BEGIN:VCALENDAR
VERSION:2.0
PRODID:-//ChamberMaster//Event Calendar 2.0//EN
METHOD:PUBLISH
X-PUBLISHED-TTL:P3D
REFRESH-INTERVAL:P3D
CALSCALE:GREGORIAN
BEGIN:VEVENT
DTSTART;VALUE=DATE:20190726
DTEND;VALUE=DATE:20190728
TRANSP:TRANSPARENT
X-MICROSOFT-CDO-ALLDAYEVENT:TRUE
SUMMARY:Street Fest 2019
DESCRIPTION:48th Annual Street Fest\n\nBix 7 Weekend | Downtown Davenport | July 26-27\, 2019\n\nFREE Admission!\n\n\n\nDon't miss the Quad-Cities Biggest Homecoming Party! This event is FREE and all ages\, so make plans to come grab some lunch or dinner with the family in Downtown Davenport before or after our show. The stage will be located on 2nd Street between Harrison Street and Ripley Street. \n\n\n\nLocation\n\nStreet Fest is located on 2nd Street between Brady & Ripley in the heart of downtown.\n\n\n\nWhat to Expect\n\nTONS of festival food & drinks\n\nGreat live music\n\nDozens of Arts & Crafts vendors\n\n\n\nFor more info visit Streetfest\n\nLooking for Bix information? BIX7\n\n\n\n\n\nInterested in becoming a sponsor? Contact jgilliland@quadcitieschamber.com for sponsorship details.\n\n\n\nFor questions related to Street Fest\, please email our Events Director\, Jason Gilliland\, at jgilliland@quadcitieschamber.com or call 563-823-2681.  Street Fest is produced by the Downtown Davenport Partnership\, a division of the Quad Cities Chamber of Commerce. Proceeds from Street Fest go to support economic development efforts downtown.
X-ALT-DESC;FMTTYPE=text/html:<p bitstream="" data-mce-style="padding-left: 120px\; text-align: left\;" font-size:="" new="" padding-left:="" style="font-family: Georgia\, " times=""><span style="font-size:16px\;"><span style="font-family:arial\;"><strong>48th Annual Street Fest</strong></span></span><br />\n<span style="font-size:14px\;"><span style="font-family:arial\;">Bix 7&nbsp\;Weekend | Downtown Davenport |&nbsp\;July 26-27\, 2019<br />\nFREE Admission!<br />\n<br />\nDon&rsquo\;t miss the Quad-Cities Biggest Homecoming Party!&nbsp\;</span></span><span style="color: rgb(29\, 33\, 41)\; font-family: Helvetica\, Arial\, sans-serif\; font-size: 14px\;">This event is FREE and all ages\, so make plans to come grab some lunch or dinner with the family in Downtown Davenport before or after our show.&nbsp\;</span><span style="color: rgb(29\, 33\, 41)\; font-family: Helvetica\, Arial\, sans-serif\; font-size: 14px\;">The stage will be located on 2nd Street between Harrison Street and Ripley Street.&nbsp\;</span><br style="color: rgb(29\, 33\, 41)\; font-family: Helvetica\, Arial\, sans-serif\; font-size: 14px\;" />\n<br />\n<span style="font-size:14px\;"><span style="font-family:arial\;"><strong>Location</strong><br />\nStreet Fest is located on 2nd Street between Brady &amp\; Ripley in the heart of downtown.<br />\n<br />\n<strong>What to Expect</strong><br />\nTONS of festival food &amp\; drinks<br />\nGreat live music<br />\nDozens of Arts &amp\; Crafts vendors</span></span><br />\n<br />\n<span style="font-size:14px\;"><span style="font-family:arial\;">For more info visit&nbsp\;<a href="https://www.downtowndavenport.com/play/festivals/street-fest">Streetfest</a><br />\nLooking for Bix information? <a href="https://bix7.com/">BIX7</a></span></span><br />\n<br />\n<br />\n<span style="font-size:14px\;">Interested in becoming a sponsor? Contact jgilliland@quadcitieschamber.com for sponsorship details.</span><br />\n<br />\n<span style="font-size:14px\;"><span style="font-family:arial\;">For questions related to Street Fest\, please email our Events Director\, Jason Gilliland\, at <a href="mailto:jgilliland@quadcitieschamber.com">jgilliland@quadcitieschamber.com</a> or call 563-823-2681. &nbsp\;Street Fest is produced by the Downtown Davenport Partnership\, a division of the Quad Cities Chamber of Commerce. Proceeds from Street Fest go to support economic development efforts downtown.</span></span></p>\n
LOCATION:Location Street Fest is located on 2nd Street between Brady & Ripley in the heart of downtown.
UID:e.2843.13554
SEQUENCE:3
DTSTAMP:20260422T113346Z
URL:https://member.quadcitieschamber.com/events/details/street-fest-2019-13554
END:VEVENT

END:VCALENDAR
