BEGIN:VCALENDAR
VERSION:2.0
PRODID:-//ChamberMaster//Event Calendar 2.0//EN
METHOD:PUBLISH
X-PUBLISHED-TTL:P3D
REFRESH-INTERVAL:P3D
CALSCALE:GREGORIAN
BEGIN:VEVENT
DTSTART:20120727T150000Z
DTEND:20120728T050000Z
X-MICROSOFT-CDO-ALLDAYEVENT:FALSE
SUMMARY:Street Fest Volunteer Sign Up
DESCRIPTION:Join us in Downtown Davenport for festival food and drinks\, live music\, dozens of arts and crafts vendors\, family fun area\, Video Game Etc. Tournaments and much more!  Interested in volunteering at Street Fest? Click "Register Here" Above!   Click here for more details.  Presented by MVRBC
X-ALT-DESC;FMTTYPE=text/html:<DIV>&nbsp\;</DIV><DIV><FONT face=Arial>Join us in Downtown Davenport for festival food and drinks\, live music\, dozens of arts and crafts vendors\, family fun area\, Video Game Etc. Tournaments and much more! </FONT></DIV><DIV><FONT face=Arial></FONT>&nbsp\;</DIV><DIV><P style="MARGIN: 0in 0in 0pt" class=MsoNormal><FONT face=Arial>Interested in volunteering at Street Fest? Click "Register Here" Above!&nbsp\;<?xml:namespace prefix = o ns = "urn:schemas-microsoft-com:office:office" /><o:p>&nbsp\;</o:p></FONT></P></DIV><DIV><FONT face=Arial></FONT>&nbsp\;</DIV><DIV><A dataFld=0:0 href="http://downtowndavenport.com/play/festivals/street-fest/"><FONT face=Arial>Click here</FONT></A><FONT face=Arial> for more details. </FONT></DIV><DIV><FONT face=Arial></FONT>&nbsp\;</DIV><DIV><FONT face=Arial>Presented by MVRBC </FONT></DIV><DIV><FONT face=Arial></FONT>&nbsp\;</DIV><DIV><A href="http://downtowndavenport.com/uploads/2012/04/BC.jpg" jQuery17207744565479821858="40"></A><A href="http://downtowndavenport.com/uploads/2012/04/BC.jpg" jQuery17203056747402941815="40"></A><A href="http://downtowndavenport.com/uploads/2012/04/BC.jpg" jQuery17207744565479821858="40"></A></DIV><DIV>&nbsp\;</DIV><DIV><A href="http://downtowndavenport.com/uploads/2012/04/BC.jpg" jQuery17207744565479821858="40"></A>&nbsp\;</DIV><DIV>&nbsp\;</DIV>
LOCATION:Downtown Davenport
UID:e.2843.363
SEQUENCE:3
DTSTAMP:20260421T220932Z
URL:https://member.quadcitieschamber.com/events/details/street-fest-volunteer-sign-up-07-27-2012-363
END:VEVENT

END:VCALENDAR
