BEGIN:VCALENDAR
VERSION:2.0
PRODID:-//ChamberMaster//Event Calendar 2.0//EN
METHOD:PUBLISH
X-PUBLISHED-TTL:P3D
REFRESH-INTERVAL:P3D
CALSCALE:GREGORIAN
BEGIN:VEVENT
DTSTART:20170825T233500Z
DTEND:20170826T030000Z
X-MICROSOFT-CDO-ALLDAYEVENT:FALSE
SUMMARY:Strike Out Ovarian Cancer
DESCRIPTION:Join NormaLeah and cheer on the River Bandits August 25th as we Strike Out Ovarian Cancer! Tickets are available through NormaLeah for only $8! ($0.50 online processing fee.) Reserve yours online at http://ow.ly/aBFH30dSwfd or call our office at 309.794.0009! 50% of all ticket sales support NormaLeah! Show your support by wearing a custom designed teal tshirt! Order yours today to have it in time for the game! Have it shipped to your home or to our office and we will bring it to the game! http://ow.ly/qXVR30dSwoa Nominate an ovarian cancer survivor to throw out the first pitch! Email your nomination and a short description of why to cnord@normaleah.org
X-ALT-DESC;FMTTYPE=text/html:Join NormaLeah and cheer on the River Bandits August 25th as we Strike Out Ovarian Cancer! Tickets are available through NormaLeah for only $8! ($0.50 online processing fee.) Reserve yours online at http://ow.ly/aBFH30dSwfd or call our office at 309.794.0009! 50% of all ticket sales support NormaLeah! Show your support by wearing a custom designed teal tshirt! Order yours today to have it in time for the game! Have it shipped to your home or to our office and we will bring it to the game! http://ow.ly/qXVR30dSwoa Nominate an ovarian cancer survivor to throw out the first pitch! Email your nomination and a short description of why to cnord@normaleah.org
LOCATION:Modern Woodmen Ballpark
UID:e.2843.6346
SEQUENCE:3
DTSTAMP:20260423T231232Z
URL:https://member.quadcitieschamber.com/events/details/strike-out-ovarian-cancer-6346
END:VEVENT

END:VCALENDAR
