BEGIN:VCALENDAR
VERSION:2.0
PRODID:-//ChamberMaster//Event Calendar 2.0//EN
METHOD:PUBLISH
X-PUBLISHED-TTL:P3D
REFRESH-INTERVAL:P3D
CALSCALE:GREGORIAN
BEGIN:VEVENT
DTSTART:20180601T233500Z
DTEND:20180602T020000Z
X-MICROSOFT-CDO-ALLDAYEVENT:FALSE
SUMMARY:Strike Out Ovarian Cancer Night
DESCRIPTION:Join NormaLeah Ovarian Cancer Initiative and event sponsor\, Massage Envy\, as we celebrate Strike Out Ovarian Cancer Night at Modern Woodmen Park Friday\, June 1\, 2018. NormaLeah will have a table set up on the concourse with a variety of raffle prizes including Chicago White Sox tickets! Help us cheer on the Quad City River Bandits\, 2017 Midwest League Champs! 5:35pm - Doors open 5:50pm - Survivors report to the Guest Services Desk for an on field survivor photo (located down 3rd base line) 6:35pm - Game begins! Tickets are only $8 each and can be purchased by calling the NormaLeah office at 309-794-0009 or online at https://normaleah.networkforgood.com/events/6747-strike-out-ovarian-cancer-night. All proceeds support early detection education programs.
X-ALT-DESC;FMTTYPE=text/html:Join NormaLeah Ovarian Cancer Initiative and event sponsor\, Massage Envy\, as we celebrate Strike Out Ovarian Cancer Night at Modern Woodmen Park Friday\, June 1\, 2018. NormaLeah will have a table set up on the concourse with a variety of raffle prizes including Chicago White Sox tickets! Help us cheer on the Quad City River Bandits\, 2017 Midwest League Champs! 5:35pm - Doors open 5:50pm - Survivors report to the Guest Services Desk for an on field survivor photo (located down 3rd base line) 6:35pm - Game begins! Tickets are only $8 each and can be purchased by calling the NormaLeah office at 309-794-0009 or online at https://normaleah.networkforgood.com/events/6747-strike-out-ovarian-cancer-night. All proceeds support early detection education programs.
LOCATION:Modern Woodmen Park 209 S Gaines Street Davenport\, Iowa 52802
UID:e.2843.13197
SEQUENCE:3
DTSTAMP:20260423T091108Z
URL:https://member.quadcitieschamber.com/events/details/strike-out-ovarian-cancer-night-13197
END:VEVENT

END:VCALENDAR
