BEGIN:VCALENDAR
VERSION:2.0
PRODID:-//ChamberMaster//Event Calendar 2.0//EN
METHOD:PUBLISH
X-PUBLISHED-TTL:P3D
REFRESH-INTERVAL:P3D
CALSCALE:GREGORIAN
BEGIN:VEVENT
DTSTART:20120616T180000Z
DTEND:20120616T183000Z
X-MICROSOFT-CDO-ALLDAYEVENT:FALSE
SUMMARY:Subway #54666 Grand Opening and Ribbon Cutting
DESCRIPTION:Please help the newly opened Subway celebrate their Chamber membership\, Grand Opening and Ribbon Cutting on Saturday\, June 16th at 1:00pm.  Located at 4110 BlackHawk Road\, #D in Rock Island – Hwy 5\, BlackHawk Road\, close to Heritage Church\, up front of Rock Valley Plaza.
X-ALT-DESC;FMTTYPE=text/html:<DIV style="FONT-FAMILY: Arial"><P style="MARGIN: 0in 0in 0pt" class=MsoNormal><FONT face=Calibri>Please help the newly opened Subway celebrate their Chamber membership\, Grand Opening and Ribbon Cutting on Saturday\, June 16<SUP>th</SUP> at 1:00pm.<SPAN style="mso-spacerun: yes">&nbsp\; </SPAN>Located at 4110 BlackHawk Road\, #D in Rock Island – Hwy 5\, BlackHawk Road\, close to Heritage Church\, up front of Rock Valley Plaza.</FONT></P></DIV>
LOCATION:Subway #546664110 Black Hawk Road #D Rock Island\, IL 61201
UID:e.2843.387
SEQUENCE:3
DTSTAMP:20260422T013430Z
URL:https://member.quadcitieschamber.com/events/details/subway-54666-grand-opening-and-ribbon-cutting-06-16-2012-387
END:VEVENT

END:VCALENDAR
