BEGIN:VCALENDAR
VERSION:2.0
PRODID:-//ChamberMaster//Event Calendar 2.0//EN
METHOD:PUBLISH
X-PUBLISHED-TTL:P3D
REFRESH-INTERVAL:P3D
CALSCALE:GREGORIAN
BEGIN:VEVENT
DTSTART:20130101T060000Z
DTEND:20131231T060000Z
X-MICROSOFT-CDO-ALLDAYEVENT:FALSE
SUMMARY:''Take 10'' Webinar 2013
DESCRIPTION:"Take 10" Webinar 2013
X-ALT-DESC;FMTTYPE=text/html:&quot\;Take 10&quot\; Webinar 2013
LOCATION:
UID:e.2843.1666
SEQUENCE:3
DTSTAMP:20260421T090941Z
URL:https://member.quadcitieschamber.com/events/details/take-10-webinar-2013-01-01-2013-1666
END:VEVENT

END:VCALENDAR
