BEGIN:VCALENDAR
VERSION:2.0
PRODID:-//ChamberMaster//Event Calendar 2.0//EN
METHOD:PUBLISH
X-PUBLISHED-TTL:P3D
REFRESH-INTERVAL:P3D
CALSCALE:GREGORIAN
BEGIN:VEVENT
DTSTART:20131001T050000Z
DTEND:20131219T060000Z
X-MICROSOFT-CDO-ALLDAYEVENT:FALSE
SUMMARY:Taking Care of Business 2013
DESCRIPTION:Taking Care of Business 2013
X-ALT-DESC;FMTTYPE=text/html:Taking Care of Business 2013
LOCATION:
UID:e.2843.1878
SEQUENCE:3
DTSTAMP:20260421T220239Z
URL:https://member.quadcitieschamber.com/events/details/taking-care-of-business-2013-10-01-2013-1878
END:VEVENT

END:VCALENDAR
