BEGIN:VCALENDAR
VERSION:2.0
PRODID:-//ChamberMaster//Event Calendar 2.0//EN
METHOD:PUBLISH
X-PUBLISHED-TTL:P3D
REFRESH-INTERVAL:P3D
CALSCALE:GREGORIAN
BEGIN:VEVENT
DTSTART:20111018T050000Z
DTEND:20111018T050000Z
X-MICROSOFT-CDO-ALLDAYEVENT:FALSE
SUMMARY:Taking Care of Business Kick-Off 2011
DESCRIPTION:Taking Care of Business Kick-Off 2011
X-ALT-DESC;FMTTYPE=text/html:Taking Care of Business Kick-Off 2011
LOCATION:The Establishment Theatre/Comedy Sportz
UID:e.2843.4434
SEQUENCE:3
DTSTAMP:20260422T125355Z
URL:https://member.quadcitieschamber.com/events/details/taking-care-of-business-kick-off-2011-10-18-2011-4434
END:VEVENT

END:VCALENDAR
