BEGIN:VCALENDAR
VERSION:2.0
PRODID:-//ChamberMaster//Event Calendar 2.0//EN
METHOD:PUBLISH
X-PUBLISHED-TTL:P3D
REFRESH-INTERVAL:P3D
CALSCALE:GREGORIAN
BEGIN:VEVENT
DTSTART:20111018T050000Z
DTEND:20111201T060000Z
X-MICROSOFT-CDO-ALLDAYEVENT:FALSE
SUMMARY:Taking Care of Business Phase 2 - Credit
DESCRIPTION:Taking Care of Business Phase 2 - Credit
X-ALT-DESC;FMTTYPE=text/html:Taking Care of Business Phase 2 - Credit
LOCATION:
UID:e.2843.4393
SEQUENCE:3
DTSTAMP:20260422T111609Z
URL:https://member.quadcitieschamber.com/events/details/taking-care-of-business-phase-2-credit-10-18-2011-4393
END:VEVENT

END:VCALENDAR
