BEGIN:VCALENDAR
VERSION:2.0
PRODID:-//ChamberMaster//Event Calendar 2.0//EN
METHOD:PUBLISH
X-PUBLISHED-TTL:P3D
REFRESH-INTERVAL:P3D
CALSCALE:GREGORIAN
BEGIN:VEVENT
DTSTART:20111001T050000Z
DTEND:20111201T060000Z
X-MICROSOFT-CDO-ALLDAYEVENT:FALSE
SUMMARY:Taking Care of Business Phase 2 - Volunteer Extra Credit
DESCRIPTION:Taking Care of Business Phase 2 - Volunteer Extra Credit
X-ALT-DESC;FMTTYPE=text/html:Taking Care of Business Phase 2 - Volunteer Extra Credit
LOCATION:
UID:e.2843.4468
SEQUENCE:3
DTSTAMP:20260422T111718Z
URL:https://member.quadcitieschamber.com/events/details/taking-care-of-business-phase-2-volunteer-extra-credit-10-01-2011-4468
END:VEVENT

END:VCALENDAR
