BEGIN:VCALENDAR
VERSION:2.0
PRODID:-//ChamberMaster//Event Calendar 2.0//EN
METHOD:PUBLISH
X-PUBLISHED-TTL:P3D
REFRESH-INTERVAL:P3D
CALSCALE:GREGORIAN
BEGIN:VEVENT
DTSTART:20120627T213000Z
DTEND:20120627T220000Z
X-MICROSOFT-CDO-ALLDAYEVENT:FALSE
SUMMARY:Tallgrass Business Resources - 1 year anniversary Open House and Ribbon Cutting
DESCRIPTION:Tallgrass Business Resources will be celebrating the 1-year anniversary of their merger and name change\, as well as their considerable history in each of their primary markets: Pioneer in Cedar Rapids since 1924\, Frohwein in Iowa City and Coralville since 1917\, Matthews in Davenport since 1931 and Matthews in Wilton since 1983.  Cocktails and hors d'oeuvres will be served and they will be giving away an iPad and a Steelcase Think Chair!  The Open House is from 4:00pm to 7:00pm\, with the ribbon cutting taking place at 4:30pm. For more information regarding Tallgrass Business Resources\, please visit www.tallgrassbiz.com
X-ALT-DESC;FMTTYPE=text/html:<DIV><P style="MARGIN: 0in 0in 0pt" class=MsoNormal><FONT face=Calibri>Tallgrass Business Resources will be celebrating the 1-year anniversary of their merger and name change\, as well as their considerable history in each of their primary markets: Pioneer in Cedar Rapids since 1924\, Frohwein in Iowa City and Coralville since 1917\, Matthews in Davenport since 1931 and Matthews in Wilton since 1983.<SPAN style="mso-spacerun: yes">&nbsp\; </SPAN>Cocktails and hors d'oeuvres will be served and they will be giving away an iPad and a Steelcase Think Chair!<SPAN style="mso-spacerun: yes">&nbsp\; </SPAN>The Open House is from 4:00pm to 7:00pm\, with the ribbon cutting taking place at 4:30pm.</FONT></P><P style="MARGIN: 0in 0in 0pt" class=MsoNormal><?xml:namespace prefix = o ns = "urn:schemas-microsoft-com:office:office" /><o:p><FONT face=Calibri>&nbsp\;</FONT></o:p></P><P style="MARGIN: 0in 0in 0pt" class=MsoNormal><FONT face=Calibri>For more information regarding Tallgrass Business Resources\, please visit </FONT><A href="http://www.tallgrassbiz.com"><FONT face="Times New Roman">www.tallgrassbiz.com</FONT></A><FONT face=Calibri> </FONT></P></DIV>
LOCATION:Hotel Blackhawk - Club Davenport (11th Floor)200 E. 3rd St. Davenport\, IA 52801
UID:e.2843.395
SEQUENCE:3
DTSTAMP:20260421T235509Z
URL:https://member.quadcitieschamber.com/events/details/tallgrass-business-resources-1-year-anniversary-open-house-and-ribbon-cutting-06-27-2012-395
END:VEVENT

END:VCALENDAR
