BEGIN:VCALENDAR
VERSION:2.0
PRODID:-//ChamberMaster//Event Calendar 2.0//EN
METHOD:PUBLISH
X-PUBLISHED-TTL:P3D
REFRESH-INTERVAL:P3D
CALSCALE:GREGORIAN
BEGIN:VEVENT
DTSTART:20120927T050000Z
DTEND:20120927T050000Z
X-MICROSOFT-CDO-ALLDAYEVENT:FALSE
SUMMARY:TCB Kickoff Featuring Dave ''The Shef'' Sheffield
DESCRIPTION:TCB Kickoff Featuring Dave "The Shef" Sheffield
X-ALT-DESC;FMTTYPE=text/html:TCB Kickoff Featuring Dave "The Shef" Sheffield
LOCATION:Farraday's/The Isle of Capri
UID:e.2843.1692
SEQUENCE:3
DTSTAMP:20260421T184201Z
URL:https://member.quadcitieschamber.com/events/details/tcb-kickoff-featuring-dave-the-shef-sheffield-09-27-2012-1692
END:VEVENT

END:VCALENDAR
