BEGIN:VCALENDAR
VERSION:2.0
PRODID:-//ChamberMaster//Event Calendar 2.0//EN
METHOD:PUBLISH
X-PUBLISHED-TTL:P3D
REFRESH-INTERVAL:P3D
CALSCALE:GREGORIAN
BEGIN:VEVENT
DTSTART:20110526T050000Z
DTEND:20110526T050000Z
X-MICROSOFT-CDO-ALLDAYEVENT:FALSE
SUMMARY:TCB - Phase 1 Rally 3
DESCRIPTION:TCB - Phase 1 Rally 3
X-ALT-DESC;FMTTYPE=text/html:TCB - Phase 1 Rally 3
LOCATION:Blackhawk Bowl & Martini Lounge
UID:e.2843.4397
SEQUENCE:3
DTSTAMP:20260422T231049Z
URL:https://member.quadcitieschamber.com/events/details/tcb-phase-1-rally-3-05-26-2011-4397
END:VEVENT

END:VCALENDAR
