BEGIN:VCALENDAR
VERSION:2.0
PRODID:-//ChamberMaster//Event Calendar 2.0//EN
METHOD:PUBLISH
X-PUBLISHED-TTL:P3D
REFRESH-INTERVAL:P3D
CALSCALE:GREGORIAN
BEGIN:VEVENT
DTSTART:20120217T180000Z
DTEND:20120217T183000Z
X-MICROSOFT-CDO-ALLDAYEVENT:FALSE
SUMMARY:TCC Grand Opening & Ribbon Cutting
DESCRIPTION:TCC (rebranding from The Cellular Connection) will hold a Grand Opening and Ribbon Cutting for its newest location at 1800 N. Division Rd.\, Suite C in Davenport (across from the CVS Pharmacy).  The Open House will take place from 11am to 1pm\, with the official ribbon cutting at Noon. Included in this Grand Opening:·         Rooftop Balloons & Flags·         $500.00 check presentation to St. Jude Children’s Research Hospital·         Live radio remote with WLLR/KMXG from 11am to 1pm·         WLLR St. Jude Radio-a-thon location·         Food & drink·         Prizes·         Exclusive Grand Opening deals With over 600 stores\, TCC (The Cellular Connection) is the Midwest’s largest exclusive Verizon Premium Wireless Retailer and Preferred DISH Network satellite provider.  “We are hands down the best choice for your mobile technology needs and are committed to providing the best customer experience in wireless.”
X-ALT-DESC;FMTTYPE=text/html:<DIV><FONT face=Calibri><P style="MARGIN: 0in 0in 0pt" class=MsoNormal>TCC (rebranding from The Cellular Connection) will hold a Grand Opening and Ribbon Cutting for its newest location at 1800 N. Division Rd.\, Suite C in Davenport (across from the CVS Pharmacy).<SPAN style="mso-spacerun: yes">&nbsp\; </SPAN>The Open House will take place from 11am to 1pm\, with the official ribbon cutting at Noon.</P><P style="MARGIN: 0in 0in 0pt" class=MsoNormal><?xml:namespace prefix = o ns = "urn:schemas-microsoft-com:office:office" /><o:p>&nbsp\;</o:p></P><P style="MARGIN: 0in 0in 0pt" class=MsoNormal>Included in this Grand Opening:</P><P style="TEXT-INDENT: -0.25in\; MARGIN: 0in 0in 0pt 0.5in\; mso-list: l0 level1 lfo1" class=MsoListParagraph><SPAN style="FONT-FAMILY: Symbol\; mso-fareast-font-family: Symbol\; mso-bidi-font-family: Symbol"><SPAN style="mso-list: Ignore">·<SPAN style="FONT: 7pt 'Times New Roman'">&nbsp\;&nbsp\;&nbsp\;&nbsp\;&nbsp\;&nbsp\;&nbsp\;&nbsp\; </SPAN></SPAN></SPAN>Rooftop Balloons &amp\; Flags</P><P style="TEXT-INDENT: -0.25in\; MARGIN: 0in 0in 0pt 0.5in\; mso-list: l0 level1 lfo1" class=MsoListParagraph><SPAN style="FONT-FAMILY: Symbol\; mso-fareast-font-family: Symbol\; mso-bidi-font-family: Symbol"><SPAN style="mso-list: Ignore">·<SPAN style="FONT: 7pt 'Times New Roman'">&nbsp\;&nbsp\;&nbsp\;&nbsp\;&nbsp\;&nbsp\;&nbsp\;&nbsp\; </SPAN></SPAN></SPAN>$500.00 check presentation to St. Jude Children’s Research Hospital</P><P style="TEXT-INDENT: -0.25in\; MARGIN: 0in 0in 0pt 0.5in\; mso-list: l0 level1 lfo1" class=MsoListParagraph><SPAN style="FONT-FAMILY: Symbol\; mso-fareast-font-family: Symbol\; mso-bidi-font-family: Symbol"><SPAN style="mso-list: Ignore">·<SPAN style="FONT: 7pt 'Times New Roman'">&nbsp\;&nbsp\;&nbsp\;&nbsp\;&nbsp\;&nbsp\;&nbsp\;&nbsp\; </SPAN></SPAN></SPAN>Live radio remote with WLLR/KMXG from 11am to 1pm</P><P style="TEXT-INDENT: -0.25in\; MARGIN: 0in 0in 0pt 0.5in\; mso-list: l0 level1 lfo1" class=MsoListParagraph><SPAN style="FONT-FAMILY: Symbol\; mso-fareast-font-family: Symbol\; mso-bidi-font-family: Symbol"><SPAN style="mso-list: Ignore">·<SPAN style="FONT: 7pt 'Times New Roman'">&nbsp\;&nbsp\;&nbsp\;&nbsp\;&nbsp\;&nbsp\;&nbsp\;&nbsp\; </SPAN></SPAN></SPAN>WLLR St. Jude Radio-a-thon location</P><P style="TEXT-INDENT: -0.25in\; MARGIN: 0in 0in 0pt 0.5in\; mso-list: l0 level1 lfo1" class=MsoListParagraph><SPAN style="FONT-FAMILY: Symbol\; mso-fareast-font-family: Symbol\; mso-bidi-font-family: Symbol"><SPAN style="mso-list: Ignore">·<SPAN style="FONT: 7pt 'Times New Roman'">&nbsp\;&nbsp\;&nbsp\;&nbsp\;&nbsp\;&nbsp\;&nbsp\;&nbsp\; </SPAN></SPAN></SPAN>Food &amp\; drink</P><P style="TEXT-INDENT: -0.25in\; MARGIN: 0in 0in 0pt 0.5in\; mso-list: l0 level1 lfo1" class=MsoListParagraph><SPAN style="FONT-FAMILY: Symbol\; mso-fareast-font-family: Symbol\; mso-bidi-font-family: Symbol"><SPAN style="mso-list: Ignore">·<SPAN style="FONT: 7pt 'Times New Roman'">&nbsp\;&nbsp\;&nbsp\;&nbsp\;&nbsp\;&nbsp\;&nbsp\;&nbsp\; </SPAN></SPAN></SPAN>Prizes</P><P style="TEXT-INDENT: -0.25in\; MARGIN: 0in 0in 0pt 0.5in\; mso-list: l0 level1 lfo1" class=MsoListParagraph><SPAN style="FONT-FAMILY: Symbol\; mso-fareast-font-family: Symbol\; mso-bidi-font-family: Symbol"><SPAN style="mso-list: Ignore">·<SPAN style="FONT: 7pt 'Times New Roman'">&nbsp\;&nbsp\;&nbsp\;&nbsp\;&nbsp\;&nbsp\;&nbsp\;&nbsp\; </SPAN></SPAN></SPAN>Exclusive Grand Opening deals</P><P style="MARGIN: 0in 0in 0pt" class=MsoNormal><o:p>&nbsp\;</o:p></P><P style="MARGIN: 0in 0in 0pt" class=MsoNormal>With over 600 stores\, TCC (The Cellular Connection) is the Midwest’s largest exclusive Verizon Premium Wireless Retailer and Preferred DISH Network satellite provider.<SPAN style="mso-spacerun: yes">&nbsp\; </SPAN>“We are hands down the best choice for your mobile technology needs and are committed to providing the best customer experience in wireless.”</P><P style="MARGIN: 0in 0in 0pt" class=MsoNormal>&nbsp\;</P></FONT></DIV>
LOCATION:TCC1800 N. Division Rd.\, Suite C Davenport\, IA 52804
UID:e.2843.348
SEQUENCE:3
DTSTAMP:20260422T093351Z
URL:https://member.quadcitieschamber.com/events/details/tcc-grand-opening-ribbon-cutting-02-17-2012-348
END:VEVENT

END:VCALENDAR
