BEGIN:VCALENDAR
VERSION:2.0
PRODID:-//ChamberMaster//Event Calendar 2.0//EN
METHOD:PUBLISH
X-PUBLISHED-TTL:P3D
REFRESH-INTERVAL:P3D
CALSCALE:GREGORIAN
BEGIN:VEVENT
DTSTART:20150310T140000Z
DTEND:20150310T150000Z
X-MICROSOFT-CDO-ALLDAYEVENT:FALSE
SUMMARY:Technical Advisory Group / ED Practitioners (9am)
DESCRIPTION:Online registration is closed. Please contact Daniel Joiner at DJoiner@QuadCitiesChamber.com  Click here to see who is already registered for this event.
X-ALT-DESC;FMTTYPE=text/html:<DIV style="FONT-FAMILY: Arial"><DIV style="FONT-FAMILY: Arial"><SPAN style="FONT-FAMILY: 'Garamond'\,'serif'\; COLOR: black\; FONT-SIZE: 11pt\; mso-bidi-font-family: Garamond\; mso-fareast-font-family: 'Times New Roman'\; mso-ansi-language: EN-US\; mso-fareast-language: EN-US\; mso-bidi-language: AR-SA"></SPAN>&nbsp\;</DIV><DIV style="FONT-FAMILY: Arial"><SPAN style="FONT-FAMILY: 'Garamond'\,'serif'\; COLOR: black\; FONT-SIZE: 11pt\; mso-bidi-font-family: Garamond\; mso-fareast-font-family: 'Times New Roman'\; mso-ansi-language: EN-US\; mso-fareast-language: EN-US\; mso-bidi-language: AR-SA"><P style="MARGIN: 0in 0in 0pt" class=MsoNormal><SPAN style="COLOR: black\; mso-bidi-font-family: Garamond\; mso-fareast-font-family: 'Times New Roman'\; mso-ascii-font-family: Calibri\; mso-ascii-theme-font: minor-latin\; mso-hansi-font-family: Calibri\; mso-hansi-theme-font: minor-latin"><FONT face="Times New Roman"><FONT color=#ff0000>Online registration is closed. Please contact Daniel Joiner at</FONT> </FONT><A href="mailto:DJoiner@QuadCitiesChamber.com"><FONT face="Times New Roman">DJoiner@QuadCitiesChamber.com</FONT></A> </SPAN></P><P style="MARGIN: 0in 0in 0pt" class=MsoNormal><SPAN style="COLOR: black\; mso-bidi-font-family: Garamond\; mso-fareast-font-family: 'Times New Roman'\; mso-ascii-font-family: Calibri\; mso-ascii-theme-font: minor-latin\; mso-hansi-font-family: Calibri\; mso-hansi-theme-font: minor-latin"></SPAN>&nbsp\;</P><P style="MARGIN: 0in 0in 0pt" class=MsoNormal><SPAN style="COLOR: black\; mso-bidi-font-family: Garamond\; mso-fareast-font-family: 'Times New Roman'\; mso-ascii-font-family: Calibri\; mso-ascii-theme-font: minor-latin\; mso-hansi-font-family: Calibri\; mso-hansi-theme-font: minor-latin"><A style="COLOR: blue\; TEXT-DECORATION: underline" title="" dataFld=0:0 href="http://events.quadcitieschamber.com/sbaweb/common/attendees.asp?eventcode=TECH%2003/15" target=_self><SPAN style="COLOR: blue\; mso-bidi-font-family: Arial"><FONT face="Times New Roman">Click here</FONT></SPAN></A></SPAN><SPAN style="COLOR: black\; mso-bidi-font-family: Arial\; mso-fareast-font-family: 'Times New Roman'\; mso-ascii-font-family: Calibri\; mso-ascii-theme-font: minor-latin\; mso-hansi-font-family: Calibri\; mso-hansi-theme-font: minor-latin"><FONT face="Times New Roman"> to see who is already registered for this event.</FONT></SPAN><SPAN style="FONT-SIZE: 12pt\; mso-bidi-font-family: Arial\; mso-fareast-font-family: 'Times New Roman'\; mso-ascii-font-family: Calibri\; mso-ascii-theme-font: minor-latin\; mso-hansi-font-family: Calibri\; mso-hansi-theme-font: minor-latin"><?xml:namespace prefix = o ns = "urn:schemas-microsoft-com:office:office" /><o:p></o:p></SPAN></P></SPAN></DIV></DIV>
LOCATION:Quad-Cities Waterfront Convention Center2021 State Street Bettendorf\, IA 52722
UID:e.2843.987
SEQUENCE:3
DTSTAMP:20260420T102128Z
URL:https://member.quadcitieschamber.com/events/details/technical-advisory-group-ed-practitioners-9am-03-10-2015-987
END:VEVENT

END:VCALENDAR
