BEGIN:VCALENDAR
VERSION:2.0
PRODID:-//ChamberMaster//Event Calendar 2.0//EN
METHOD:PUBLISH
X-PUBLISHED-TTL:P3D
REFRESH-INTERVAL:P3D
CALSCALE:GREGORIAN
BEGIN:VEVENT
DTSTART:20181117T000000Z
DTEND:20181117T040000Z
X-MICROSOFT-CDO-ALLDAYEVENT:FALSE
SUMMARY:Telling Our Stories Gala
DESCRIPTION:Join Black Hawk College Foundation for Telling Our Stories G*A*L*A\, an evening celebrating community partnerships. The 2018 gala promises another unique and inspiring event highlighting our community partners\, this year Black Hawk College's new Surgical Tech program. Step back in time as we showcase our country's military history and introduce you to special people who honor those who served in times of war. We will transport you to the 4077th Mobile Army Surgical Hospital in the midst of the Korean War. Tour beautiful tropical flora. View the handiwork of the Mississippi Valley Quilters Guild and their touching Quilts of Valor. Enjoy swing-style musical entertainment and 1950's military d cor and attire. Features a keynote presentation by Martha Roskam who spent years researching service members and tracking down the veterans and families of lost military members to return lost dog tags to the rightful owners. Entertainment includes The Manny Lopez Big Band\, Wine Pull\, and Silent Auction. Proceeds to benefit the Black Hawk College Surgical Tech Program and Black Hawk College Foundation. Business/cocktail attire welcome\, 1950's military attire encouraged. Catered by Bridges Catering. Cash bar available. Kindly reply before November 8\, 2018- seating limited
X-ALT-DESC;FMTTYPE=text/html:Join Black Hawk College Foundation for Telling Our Stories G*A*L*A\, an evening celebrating community partnerships. The 2018 gala promises another unique and inspiring event highlighting our community partners\, this year Black Hawk College&rsquo\;s new Surgical Tech program. Step back in time as we showcase our country&rsquo\;s military history and introduce you to special people who honor those who served in times of war. We will transport you to the 4077th Mobile Army Surgical Hospital in the midst of the Korean War. Tour beautiful tropical flora. View the handiwork of the Mississippi Valley Quilters Guild and their touching Quilts of Valor. Enjoy swing-style musical entertainment and 1950&rsquo\;s military d&eacute\;cor and attire. Features a keynote presentation by Martha Roskam who spent years researching service members and tracking down the veterans and families of lost military members to return lost dog tags to the rightful owners. Entertainment includes The Manny Lopez Big Band\, Wine Pull\, and Silent Auction. Proceeds to benefit the Black Hawk College Surgical Tech Program and Black Hawk College Foundation. Business/cocktail attire welcome\, 1950&rsquo\;s military attire encouraged. Catered by Bridges Catering. Cash bar available. Kindly reply before November 8\, 2018- seating limited
LOCATION:Quad City Botanical Center
UID:e.2843.13523
SEQUENCE:3
DTSTAMP:20260423T013430Z
URL:https://member.quadcitieschamber.com/events/details/telling-our-stories-gala-11-16-2018-13523
END:VEVENT

END:VCALENDAR
