BEGIN:VCALENDAR
VERSION:2.0
PRODID:-//ChamberMaster//Event Calendar 2.0//EN
METHOD:PUBLISH
X-PUBLISHED-TTL:P3D
REFRESH-INTERVAL:P3D
CALSCALE:GREGORIAN
BEGIN:VEVENT
DTSTART:20120816T200000Z
DTEND:20120816T203000Z
X-MICROSOFT-CDO-ALLDAYEVENT:FALSE
SUMMARY:Tennant Truck Lines Ribbon Cutting
DESCRIPTION:Please help Tennant Truck Lines celebrate their new location with a Ribbon Cutting & Open House on Thursday\, August 16th at 3:00pm.  The Open House is from 3:00pm to 5:00pm.  Location is 20812 E. 550 Street\, Colona – east of Lavender Crest Winery & I-80 on Route 6 Tennant began in 1946 as a family business in Orion\, IL and has expanded steadily as the QC economy has grown.  It is a “2012 Best Fleet to Drive For” by the Truckload Carriers Association.  Tennant provides services to 48 states and has fully staffed terminals in Colona\, IL\; August\, GA\; Baltimore\, MD\; and Wichita\, KS For more information\, visit www.tennanttrucklines.com Thank you!
X-ALT-DESC;FMTTYPE=text/html:<DIV style="FONT-FAMILY: Arial"><P style="MARGIN: 0in 0in 0pt" class=MsoNormal><FONT face=Calibri>Please help Tennant Truck Lines celebrate their new location with a Ribbon Cutting &amp\; Open House on Thursday\, August 16<SUP>th</SUP> at 3:00pm.<SPAN style="mso-spacerun: yes">&nbsp\; </SPAN>The Open House is from 3:00pm to 5:00pm.<SPAN style="mso-spacerun: yes">&nbsp\; </SPAN>Location is 20812 E. 550 Street\, Colona – east of Lavender Crest Winery &amp\; I-80 on Route 6</FONT></P><P style="MARGIN: 0in 0in 0pt" class=MsoNormal><?xml:namespace prefix = o ns = "urn:schemas-microsoft-com:office:office" /><o:p><FONT face=Calibri>&nbsp\;</FONT></o:p></P><P style="MARGIN: 0in 0in 0pt" class=MsoNormal><FONT face=Calibri>Tennant began in 1946 as a family business in Orion\, IL and has expanded steadily as the QC economy has grown.<SPAN style="mso-spacerun: yes">&nbsp\; </SPAN>It is a “2012 Best Fleet to Drive For” by the Truckload Carriers Association.<SPAN style="mso-spacerun: yes">&nbsp\; </SPAN>Tennant provides services to 48 states and has fully staffed terminals in Colona\, IL\; August\, GA\; Baltimore\, MD\; and Wichita\, KS</FONT></P><P style="MARGIN: 0in 0in 0pt" class=MsoNormal><o:p><FONT face=Calibri>&nbsp\;</FONT></o:p></P><P style="MARGIN: 0in 0in 0pt" class=MsoNormal><FONT face=Calibri>For more information\, visit </FONT><A href="http://www.tennanttrucklines.com"><FONT face="Times New Roman">www.tennanttrucklines.com</FONT></A></P><P style="MARGIN: 0in 0in 0pt" class=MsoNormal><o:p><FONT face=Calibri>&nbsp\;</FONT></o:p></P><P style="MARGIN: 0in 0in 0pt" class=MsoNormal><FONT face=Calibri>Thank you!</FONT></P></DIV>
LOCATION:20812 E. 550 Street Colona\,
UID:e.2843.407
SEQUENCE:3
DTSTAMP:20260421T220459Z
URL:https://member.quadcitieschamber.com/events/details/tennant-truck-lines-ribbon-cutting-08-16-2012-407
END:VEVENT

END:VCALENDAR
