BEGIN:VCALENDAR
VERSION:2.0
PRODID:-//ChamberMaster//Event Calendar 2.0//EN
METHOD:PUBLISH
X-PUBLISHED-TTL:P3D
REFRESH-INTERVAL:P3D
CALSCALE:GREGORIAN
BEGIN:VEVENT
DTSTART:20130627T213000Z
DTEND:20130627T220000Z
X-MICROSOFT-CDO-ALLDAYEVENT:FALSE
SUMMARY:Terrostar Interactive Media Ribbon Cutting
DESCRIPTION:Please help Terrostar Interactive Media celebrate their new rebranding and services on Thursday\, June 27th at 4:30pm – Located at 3565 Utica Ridge Road\, Bettendorf (Half mile north of Spruce Hills on the right). Terrostar Technology Services is now Terrostar Interactive Media expanding from an Internet marketing company into a total interactive media organization. Visit www.terrostar.com for more information.
X-ALT-DESC;FMTTYPE=text/html:<P style="MARGIN: 0in 0in 0pt" class=MsoNormal><SPAN style="mso-ascii-font-family: Calibri\; mso-hansi-font-family: Calibri"><FONT face=Calibri>Please help Terrostar Interactive Media celebrate their new rebranding and services on <B style="mso-bidi-font-weight: normal">Thursday\, June 27<SUP>th</SUP> at 4:30pm</B> – Located at 3565 Utica Ridge Road\, Bettendorf (Half mile north of Spruce Hills on the right).<?xml:namespace prefix = o ns = "urn:schemas-microsoft-com:office:office" /><o:p></o:p></FONT></SPAN></P><P style="MARGIN: 0in 0in 0pt" class=MsoNormal><SPAN style="mso-ascii-font-family: Calibri\; mso-hansi-font-family: Calibri"><o:p><FONT face=Calibri>&nbsp\;</FONT></o:p></SPAN></P><P style="MARGIN: 0in 0in 0pt" class=MsoNormal><SPAN style="mso-ascii-font-family: Calibri\; mso-hansi-font-family: Calibri"><FONT face=Calibri>Terrostar Technology Services is now Terrostar Interactive Media expanding from an Internet marketing company into a total interactive media organization.<o:p></o:p></FONT></SPAN></P><P style="MARGIN: 0in 0in 0pt" class=MsoNormal><SPAN style="mso-ascii-font-family: Calibri\; mso-hansi-font-family: Calibri"><o:p><FONT face=Calibri>&nbsp\;</FONT></o:p></SPAN></P><P style="MARGIN: 0in 0in 0pt" class=MsoNormal><SPAN style="mso-ascii-font-family: Calibri\; mso-hansi-font-family: Calibri"><FONT face=Calibri>Visit </FONT><A href="http://www.terrostar.com"><FONT face=Calibri>www.terrostar.com</FONT></A><FONT face=Calibri> for more information.<o:p></o:p></FONT></SPAN></P><DIV style="FONT-FAMILY: Arial">&nbsp\;</DIV>
LOCATION:Terrostar Technology Solutions\, LLC3565 Utica Ridge Road Bettendorf\, IA 52722
UID:e.2843.593
SEQUENCE:3
DTSTAMP:20260421T134436Z
URL:https://member.quadcitieschamber.com/events/details/terrostar-interactive-media-ribbon-cutting-06-27-2013-593
END:VEVENT

END:VCALENDAR
