BEGIN:VCALENDAR
VERSION:2.0
PRODID:-//ChamberMaster//Event Calendar 2.0//EN
METHOD:PUBLISH
X-PUBLISHED-TTL:P3D
REFRESH-INTERVAL:P3D
CALSCALE:GREGORIAN
BEGIN:VEVENT
DTSTART:20120204T170000Z
DTEND:20120205T053000Z
X-MICROSOFT-CDO-ALLDAYEVENT:FALSE
SUMMARY:Texas Hold'Em Tournament
DESCRIPTION:Charity poker tournament for the benefit of The Arc.\nGrand Prize: Seat at the World Series of Pokerplus Travel Voucher\nSecond Place prize: Bag-o-Gold\nThird Place prize: Las Vegas Getaway\nPlay to 10 winners each session.  Re-buys limited to first hour of play.
X-ALT-DESC;FMTTYPE=text/html:Charity poker tournament for the benefit of The Arc.\nGrand Prize: Seat at the World Series of Pokerplus Travel Voucher\nSecond Place prize: Bag-o-Gold\nThird Place prize: Las Vegas Getaway\nPlay to 10 winners each session.  Re-buys limited to first hour of play.
LOCATION:Jumer's Casino & Hotel777 Jumer Drive Rock Island\, IL 61201
UID:e.2843.110
SEQUENCE:3
DTSTAMP:20260422T080436Z
URL:https://member.quadcitieschamber.com/events/details/texas-hold-em-tournament-02-04-2012-110
END:VEVENT

END:VCALENDAR
