BEGIN:VCALENDAR
VERSION:2.0
PRODID:-//ChamberMaster//Event Calendar 2.0//EN
METHOD:PUBLISH
X-PUBLISHED-TTL:P3D
REFRESH-INTERVAL:P3D
CALSCALE:GREGORIAN
BEGIN:VEVENT
DTSTART:20191128T170000Z
DTEND:20191128T210000Z
X-MICROSOFT-CDO-ALLDAYEVENT:FALSE
SUMMARY:Thanksgiving Brunch at the Merrill
DESCRIPTION:Seatings 11 am & 1 pm\n\nIn the Grand Ballroom\n\n\n\nStart a new Muscatine Thanksgiving tradition with your family and gather around our bountiful Thanksgiving Brunch in the Grand Ballroom at the Merrill with sweeping views of the Mississippi River! The holiday season begins with Executive Chef Tessa Crookshanks' multi-course feast filled with made-from-scratch breakfast and brunch favorites sure to please. Your family will enjoy the bounty of our feast without the stress of the preparation or clean up.\n\n\n\nAdults $24.99* | Children 6-12: $12.99*\n\nChildren 5 & Under Free\n\n*Does not include tax or gratuity.\n\n\n\nFOR RESERVATIONS\, CALL 563-263-2600\n\n\n\nVIEW MENU
X-ALT-DESC;FMTTYPE=text/html:<span style="color:rgb(29\, 33\, 41)\; font-family:helvetica\,arial\,sans-serif\; font-size:14px">Seatings 11 am &amp\; 1 pm</span><br />\n<span style="color:rgb(29\, 33\, 41)\; font-family:helvetica\,arial\,sans-serif\; font-size:14px">In the Grand Ballroom</span><br />\n<br />\n<span style="color:rgb(29\, 33\, 41)\; font-family:helvetica\,arial\,sans-serif\; font-size:14px">Start a new Muscatine Thanksgiving tradition with your family and gather around our bountiful Thanksgiving Brunch in the Grand Ballroom at the Merrill with sweeping views of the Mississippi River! The holiday season begins with Executive Chef Tessa Crookshanks&#39\; multi-course feast filled with made-from-scratch breakfast and brunch favorites sure to please. Your family will enjoy the bounty of our feast without the stress of the preparation or clean up.</span><br />\n<br />\n<span style="color:rgb(29\, 33\, 41)\; font-family:helvetica\,arial\,sans-serif\; font-size:14px">Adults $24.99* | Children 6-12: $12.99*</span><br />\n<span style="color:rgb(29\, 33\, 41)\; font-family:helvetica\,arial\,sans-serif\; font-size:14px">Children 5 &amp\; Under Free</span><br />\n<span style="color:rgb(29\, 33\, 41)\; font-family:helvetica\,arial\,sans-serif\; font-size:14px">*Does not include tax or gratuity.</span><br />\n<br />\n<span style="color:rgb(29\, 33\, 41)\; font-family:helvetica\,arial\,sans-serif\; font-size:14px">FOR RESERVATIONS\, CALL 563-263-2600<br />\n<br />\n<a href="https://www.themerrill.com/thanksgiving-brunch-at-the-merrill.htm?QCCHAMBER" target="_blank"><strong>VIEW MENU</strong></a></span>
LOCATION:Grand Ballroom The Merrill Hotel\, Muscatine\, A Tribute Portfolio Hotel 119 West Mississippi Drive Muscatine\, IA 52761
UID:e.2843.16953
SEQUENCE:3
DTSTAMP:20260422T082953Z
URL:https://member.quadcitieschamber.com/events/details/thanksgiving-brunch-at-the-merrill-16953
END:VEVENT

END:VCALENDAR
