BEGIN:VCALENDAR
VERSION:2.0
PRODID:-//ChamberMaster//Event Calendar 2.0//EN
METHOD:PUBLISH
X-PUBLISHED-TTL:P3D
REFRESH-INTERVAL:P3D
CALSCALE:GREGORIAN
BEGIN:VEVENT
DTSTART:20140729T140000Z
DTEND:20140729T170000Z
X-MICROSOFT-CDO-ALLDAYEVENT:FALSE
SUMMARY:The American's with Disabilites Act and Epilepsy in the Wor
DESCRIPTION:Disability-based discrimination is prohibited under federal and state law.  It is crucial that employees with epilepsy understand the rights and the employers understand the responsibilities related to these laws.  This seminar will help to provide and understanding resulting in a healthier employment setting.  Employers\, HR professionals\, individuals with epilepsy and their families are encouraged to attend.
X-ALT-DESC;FMTTYPE=text/html:Disability-based discrimination is prohibited under federal and state law.  It is crucial that employees with epilepsy understand the rights and the employers understand the responsibilities related to these laws.  This seminar will help to provide and understanding resulting in a healthier employment setting.  Employers\, HR professionals\, individuals with epilepsy and their families are encouraged to attend.
LOCATION:Figge Art Museum225 West Second Street Davenport\, IO 52801
UID:e.2843.24
SEQUENCE:3
DTSTAMP:20260422T125453Z
URL:https://member.quadcitieschamber.com/events/details/the-american-s-with-disabilites-act-and-epilepsy-in-the-wor-07-29-2014-24
END:VEVENT

END:VCALENDAR
