BEGIN:VCALENDAR
VERSION:2.0
PRODID:-//ChamberMaster//Event Calendar 2.0//EN
METHOD:PUBLISH
X-PUBLISHED-TTL:P3D
REFRESH-INTERVAL:P3D
CALSCALE:GREGORIAN
BEGIN:VEVENT
DTSTART:20120921T180000Z
DTEND:20120921T183000Z
X-MICROSOFT-CDO-ALLDAYEVENT:FALSE
SUMMARY:The Arc of the Quad Cities Area Ribbon Cutting
DESCRIPTION:Please help The Arc of the Quad Cities Area celebrate their property reinvestment with a ribbon cutting on Friday\, September 21st at 1:00pm.  Located at 5101 52nd Avenue in Moline – South on 41st from John Deere Rd\; left at stop sign\; right at stop sign @ 39th St\; left on 52nd Avenue Celebrating 60th Anniversary on September 25\, 2012!  Senator Mike Jacobs facilitated an energy efficiency grant in the amount of $275\,000\, made available through the Illinois Dept. of Commerce and Economic Opportunity.  Invested in geo-thermal system in the Opportunity Center which serves 144 individuals with intellectual and developmental disabilities daily. For more information\, visit www.arcqca.org
X-ALT-DESC;FMTTYPE=text/html:<P style="MARGIN: 0in 0in 0pt" class=MsoNormal><FONT face=Calibri>Please help The Arc of the Quad Cities Area celebrate their property reinvestment with a ribbon cutting on Friday\, September 21<SUP>st</SUP> at 1:00pm.<SPAN style="mso-spacerun: yes">&nbsp\; </SPAN>Located at 5101 52<SUP>nd</SUP> Avenue in Moline – South on 41<SUP>st</SUP> from John Deere Rd\; left at stop sign\; right at stop sign @ 39<SUP>th</SUP> St\; left on 52<SUP>nd</SUP> Avenue</FONT></P><P style="MARGIN: 0in 0in 0pt" class=MsoNormal><?xml:namespace prefix = o ns = "urn:schemas-microsoft-com:office:office" /><o:p><FONT face=Calibri>&nbsp\;</FONT></o:p></P><P style="MARGIN: 0in 0in 0pt" class=MsoNormal><FONT face=Calibri>Celebrating 60<SUP>th</SUP> Anniversary on September 25\, 2012!<SPAN style="mso-spacerun: yes">&nbsp\; </SPAN>Senator Mike Jacobs facilitated an energy efficiency grant in the amount of $275\,000\, made available through the Illinois Dept. of Commerce and Economic Opportunity.<SPAN style="mso-spacerun: yes">&nbsp\; </SPAN>Invested in geo-thermal system in the Opportunity Center which serves 144 individuals with intellectual and developmental disabilities daily.</FONT></P><P style="MARGIN: 0in 0in 0pt" class=MsoNormal><o:p><FONT face=Calibri>&nbsp\;</FONT></o:p></P><P style="MARGIN: 0in 0in 0pt" class=MsoNormal><FONT face=Calibri>For more information\, visit </FONT><A href="http://www.arcqca.org">www.arcqca.org</A></P><DIV style="FONT-FAMILY: Arial">&nbsp\;</DIV>
LOCATION:Arc of the Quad Cities Area5101 52nd Avenue Moline\, IL 61265
UID:e.2843.435
SEQUENCE:3
DTSTAMP:20260421T184803Z
URL:https://member.quadcitieschamber.com/events/details/the-arc-of-the-quad-cities-area-ribbon-cutting-09-21-2012-435
END:VEVENT

END:VCALENDAR
