BEGIN:VCALENDAR
VERSION:2.0
PRODID:-//ChamberMaster//Event Calendar 2.0//EN
METHOD:PUBLISH
X-PUBLISHED-TTL:P3D
REFRESH-INTERVAL:P3D
CALSCALE:GREGORIAN
BEGIN:VEVENT
DTSTART:20121017T180000Z
DTEND:20121017T183000Z
X-MICROSOFT-CDO-ALLDAYEVENT:FALSE
SUMMARY:The Arc of the Quad Cities ribbon cutting
DESCRIPTION:Please help The Arc of the Quad Cities celebrate their new group home and 60 years of service with a ribbon cutting on Wednesday\, October 17th\, 2012 at 1:00pm.  Located at 4013/4015 Kennedy Drive in East Moline – North of the intersection at Avenue of the Cities. The Arc serves 325 individuals with intellectual/developmental disabilities.  CARF-accredited agency & United Way partner. For more information\, visit www.arcqca.org
X-ALT-DESC;FMTTYPE=text/html:<DIV style="FONT-FAMILY: Arial"><P style="MARGIN: 0in 0in 0pt" class=MsoNormal><FONT face=Calibri>Please help The Arc of the Quad Cities celebrate their new group home and 60 years of service with a ribbon cutting on Wednesday\, October 17<SUP>th</SUP>\, 2012 at 1:00pm.<SPAN style="mso-spacerun: yes">&nbsp\; </SPAN>Located at 4013/4015 Kennedy Drive in East Moline – North of the intersection at Avenue of the Cities.</FONT></P><P style="MARGIN: 0in 0in 0pt" class=MsoNormal><?xml:namespace prefix = o ns = "urn:schemas-microsoft-com:office:office" /><o:p><FONT face=Calibri>&nbsp\;</FONT></o:p></P><P style="MARGIN: 0in 0in 0pt" class=MsoNormal><FONT face=Calibri>The Arc serves 325 individuals with intellectual/developmental disabilities.<SPAN style="mso-spacerun: yes">&nbsp\; </SPAN>CARF-accredited agency &amp\; United Way partner.</FONT></P><P style="MARGIN: 0in 0in 0pt" class=MsoNormal><o:p><FONT face=Calibri>&nbsp\;</FONT></o:p></P><P style="MARGIN: 0in 0in 0pt" class=MsoNormal><FONT face=Calibri>For more information\, visit </FONT><A href="http://www.arcqca.org"><FONT face="Times New Roman">www.arcqca.org</FONT></A></P></DIV>
LOCATION:4013/4015 Kennedy Drive East Moline\, IL
UID:e.2843.462
SEQUENCE:3
DTSTAMP:20260421T184626Z
URL:https://member.quadcitieschamber.com/events/details/the-arc-of-the-quad-cities-ribbon-cutting-10-17-2012-462
END:VEVENT

END:VCALENDAR
